BEGIN:VCALENDAR
VERSION:2.0
PRODID:-//Gematsu - ECPv5.16.4//NONSGML v1.0//EN
CALSCALE:GREGORIAN
METHOD:PUBLISH
X-WR-CALNAME:Gematsu
X-ORIGINAL-URL:https://www.gematsu.com
X-WR-CALDESC:Events for Gematsu
BEGIN:VTIMEZONE
TZID:America/New_York
BEGIN:DAYLIGHT
TZOFFSETFROM:-0500
TZOFFSETTO:-0400
TZNAME:EDT
DTSTART:20250309T070000
END:DAYLIGHT
BEGIN:STANDARD
TZOFFSETFROM:-0400
TZOFFSETTO:-0500
TZNAME:EST
DTSTART:20251102T060000
END:STANDARD
END:VTIMEZONE
BEGIN:VEVENT
DTSTART;TZID=America/New_York:20250919T210000
DTEND;TZID=America/New_York:20250921T050000
DTSTAMP:20260423T125110
CREATED:20250520T054737Z
LAST-MODIFIED:20250921T023216Z
UID:965801-1758315600-1758430800@www.gematsu.com
SUMMARY:Digimon Expo '25
DESCRIPTION:Bandai Namco will host Digimon Expo ’25 from September 20 to 21 at Prism Hall in Tokyo Dome City. \nThe in-person event will bring together all things Digimon\, including the anime\, video games\, card game\, and merchandise. \nThe event schedule is as follows: \nSeptember 20 (YouTube) \nhttps://www.youtube.com/watch?v=klUH3yIhQTc \n10:00 – Kigurumi Greeting11:00 – Terri-suke Opening Stage12:00 – New Online Card Game Digimon Alysion Stage13:00 – Digimon Latest Merchandise Stage14:00 – Digimon Story: Time Stranger Stage15:00 – Kigurumi Greeting16:00 – Digimon Xros Wars Stage19:00 – Digimon Beatbreak First Episode Premiere Screening\nSeptember 21 (YouTube) \nhttps://www.youtube.com/watch?v=vNwHsKhshQA \n10:00 – Kigurumi Greeting11:00 – Digimon Special Stage12:00 – Digimon Card Game Stage13:00 – Digimon Latest Merchandise Stage14:00 – Kigurumi Greeting15:00 – Digimon Beatbreak First Episode Screening and Staff Roundtable17:00 – Digimon Adventure 02 Stage
URL:https://www.gematsu.com/event/digimon-expo-25
ATTACH;FMTTYPE=image/jpeg:https://www.gematsu.com/wp-content/uploads/2025/05/Event_Digimon-Expo-25_09-20-25.jpg
END:VEVENT
BEGIN:VEVENT
DTSTART;TZID=America/New_York:20250921T050000
DTEND;TZID=America/New_York:20250921T070000
DTSTAMP:20260423T125110
CREATED:20250921T052749Z
LAST-MODIFIED:20250921T052749Z
UID:994197-1758430800-1758438000@www.gematsu.com
SUMMARY:Final Fantasy Tactics: The Ivalice Chronicles Pre-Launch Live Stream
DESCRIPTION:Square Enix will host the Final Fantasy Tactics: The Ivalice Chronicles Pre-Launch Live Stream on September 21 at 18:00 JST. You will be able to watch it on YouTube. \nThe first part of the broadcast will feature an outline of the game and its highlights with members of the development team. Presenters include Kazutoyo Maehiro (director)\, Ayako Yokoyama (co-director)\, Hiroshi Minagawa (art director)\, and Shoichi Matsuzawa (producer). \nThe second part of the broadcast will begin at 19:00 JST and feature stories from the recording studio with the voice cast\, as well as live gameplay. Presenters include Shinnosuke Tachibana (Ramza Beoulve voice actor)\, Megumi Han (Ovelia Atkascha voice actor)\, Tomoaki Maeno (Orran Durai voice actor)\, Kazutoyo Maehiro (director)\, and Shoichi Matsuzawa (producer).
URL:https://www.gematsu.com/event/final-fantasy-tactics-the-ivalice-chronicles-pre-launch-live-stream
ATTACH;FMTTYPE=image/jpeg:https://www.gematsu.com/wp-content/uploads/2025/09/Event_Final-Fantasy-Tactics_09-21-25.jpg
END:VEVENT
END:VCALENDAR