BEGIN:VCALENDAR
VERSION:2.0
PRODID:-//Gematsu - ECPv5.16.4//NONSGML v1.0//EN
CALSCALE:GREGORIAN
METHOD:PUBLISH
X-WR-CALNAME:Gematsu
X-ORIGINAL-URL:https://www.gematsu.com
X-WR-CALDESC:Events for Gematsu
BEGIN:VTIMEZONE
TZID:America/New_York
BEGIN:DAYLIGHT
TZOFFSETFROM:-0500
TZOFFSETTO:-0400
TZNAME:EDT
DTSTART:20250309T070000
END:DAYLIGHT
BEGIN:STANDARD
TZOFFSETFROM:-0400
TZOFFSETTO:-0500
TZNAME:EST
DTSTART:20251102T060000
END:STANDARD
END:VTIMEZONE
BEGIN:VEVENT
DTSTART;TZID=America/New_York:20250903T140000
DTEND;TZID=America/New_York:20250903T143600
DTSTAMP:20260425T223924
CREATED:20250901T130807Z
LAST-MODIFIED:20250903T183634Z
UID:989448-1756908000-1756910160@www.gematsu.com
SUMMARY:State of Play: September 3\, 2025 (007 First Light)
DESCRIPTION:Sony Interactive Entertainment and IO Interactive will host a 007 First Light-focused PlayStation State of Play broadcast on September 3 at 11:00 a.m. PT / 2:00 p.m. ET. You will be able to watch it on YouTube (Subtitled) and Twitch. \nThe broadcast will feature over 30 minutes of gameplay\, including a playthrough of James Bond’s first mission as an MI6 recruit\, followed by insights from IO Interactive.
URL:https://www.gematsu.com/event/state-of-play-september-3-2025
ATTACH;FMTTYPE=image/jpeg:https://www.gematsu.com/wp-content/uploads/2025/09/Event_State-of-Play_09-03-25.jpg
END:VEVENT
END:VCALENDAR