BEGIN:VCALENDAR
VERSION:2.0
PRODID:-//Gematsu - ECPv5.16.4//NONSGML v1.0//EN
CALSCALE:GREGORIAN
METHOD:PUBLISH
X-WR-CALNAME:Gematsu
X-ORIGINAL-URL:https://www.gematsu.com
X-WR-CALDESC:Events for Gematsu
BEGIN:VTIMEZONE
TZID:America/New_York
BEGIN:DAYLIGHT
TZOFFSETFROM:-0500
TZOFFSETTO:-0400
TZNAME:EDT
DTSTART:20220313T070000
END:DAYLIGHT
BEGIN:STANDARD
TZOFFSETFROM:-0400
TZOFFSETTO:-0500
TZNAME:EST
DTSTART:20221106T060000
END:STANDARD
END:VTIMEZONE
BEGIN:VEVENT
DTSTART;TZID=America/New_York:20220701T070000
DTEND;TZID=America/New_York:20220701T080000
DTSTAMP:20260420T171004
CREATED:20220629T035056Z
LAST-MODIFIED:20220629T035859Z
UID:749843-1656658800-1656662400@www.gematsu.com
SUMMARY:Gemdrops Direct: July 1\, 2022
DESCRIPTION:Gemdrops will host a Gemdrops Direct on July 1 at 20:00 JST. You will be able to watch it on YouTube. \nThe broadcast will feature an introduction to Gemdrops’ virtual reality titles\, including Kizuna AI: Touch the Beat! for Quest\, as well as information about events Gemdrops will be exhibiting and an overview of existing titles. Presenters include hosts Yuichiro Kitao and a new member\, plus the development staff.
URL:https://www.gematsu.com/event/gemdrops-direct-july-1-2022
ATTACH;FMTTYPE=image/jpeg:https://www.gematsu.com/wp-content/uploads/2022/06/Event_Gemdrops_07-01-22.jpg
END:VEVENT
BEGIN:VEVENT
DTSTART;TZID=America/New_York:20220701T233000
DTEND;TZID=America/New_York:20220702T001500
DTSTAMP:20260420T171004
CREATED:20220617T180725Z
LAST-MODIFIED:20220702T032356Z
UID:747799-1656718200-1656720900@www.gematsu.com
SUMMARY:Bandai Namco Entertainment Summer Showcase at Anime Expo 2022
DESCRIPTION:Bandai Namco will host the Bandai Namco Entertainment Summer Showcase at Anime Expo 2022 on July 1 at 8:30 p.m. PT / 11:30 p.m. ET to 9:15 p.m. PT / 12:15 a.m. ET. You will be able to watch it on Twitch. \nThe showcase will feature “exciting reveals and news” for upcoming Bandai Namco titles\, including exclusive information from the developers themselves. Digimon games producer Kazumasa Habu will also appear to talk about Digimon Survive!
URL:https://www.gematsu.com/event/bandai-namco-entertainment-summer-showcase-at-anime-expo-2022
ATTACH;FMTTYPE=image/jpeg:https://www.gematsu.com/wp-content/uploads/2022/06/Event_AX2022-Bandai-Namco_07-01-22.jpg
END:VEVENT
END:VCALENDAR