BEGIN:VCALENDAR
VERSION:2.0
PRODID:-//Gematsu - ECPv5.16.4//NONSGML v1.0//EN
CALSCALE:GREGORIAN
METHOD:PUBLISH
X-WR-CALNAME:Gematsu
X-ORIGINAL-URL:https://www.gematsu.com
X-WR-CALDESC:Events for Gematsu
BEGIN:VTIMEZONE
TZID:America/New_York
BEGIN:DAYLIGHT
TZOFFSETFROM:-0500
TZOFFSETTO:-0400
TZNAME:EDT
DTSTART:20220313T070000
END:DAYLIGHT
BEGIN:STANDARD
TZOFFSETFROM:-0400
TZOFFSETTO:-0500
TZNAME:EST
DTSTART:20221106T060000
END:STANDARD
END:VTIMEZONE
BEGIN:VEVENT
DTSTART;TZID=America/New_York:20220421T130000
DTEND;TZID=America/New_York:20220421T140000
DTSTAMP:20260423T111201
CREATED:20220420T012744Z
LAST-MODIFIED:20220420T031637Z
UID:733560-1650546000-1650549600@www.gematsu.com
SUMMARY:Skybound Games Showcase at PAX East 2022
DESCRIPTION:Skybound Games will host the Skybound Games Showcase at PAX East 2022 on April 21 from 10:00 a.m. PT / 1:00 p.m. ET to 11:00 a.m. PT / 2:00 p.m. ET. You will be able to watch it on Twitch. \nThe showcase will feature a “look into the future of Skybound Games\,” including new announcements\, in-depth reveals\, and more.
URL:https://www.gematsu.com/event/skybound-games-showcase-at-pax-east-2022
ATTACH;FMTTYPE=image/jpeg:https://www.gematsu.com/wp-content/uploads/2022/04/Event_PAX-East-Skybound_04-21-22.jpg
END:VEVENT
BEGIN:VEVENT
DTSTART;TZID=America/New_York:20220421T143000
DTEND;TZID=America/New_York:20220421T153000
DTSTAMP:20260423T111201
CREATED:20220420T012127Z
LAST-MODIFIED:20220421T150727Z
UID:733555-1650551400-1650555000@www.gematsu.com
SUMMARY:Gearbox Main Theatre Show at PAX East 2022
DESCRIPTION:The Gearbox Entertainment Company will host the Gearbox Main Theatre Show at PAX East 2022 on April 21 from 11:30 a.m. PT / 2:30 p.m. ET to 12:30 p.m. PT / 3:30 p.m. ET. You will be able to watch it on YouTube and Twitch. \nThe company will announce its publishing and software lineup while paying homage to its developers\, creatives\, and community. The event promises to be a “standout moment” of PAX East 2022.
URL:https://www.gematsu.com/event/gearbox-main-theatre-show-at-pax-east-2022
ATTACH;FMTTYPE=image/jpeg:https://www.gematsu.com/wp-content/uploads/2022/04/Event_PAX-East-Gearbox_04-21-22.jpg
END:VEVENT
BEGIN:VEVENT
DTSTART;TZID=America/New_York:20220421T160000
DTEND;TZID=America/New_York:20220421T170000
DTSTAMP:20260423T111202
CREATED:20220420T012453Z
LAST-MODIFIED:20220421T211908Z
UID:733557-1650556800-1650560400@www.gematsu.com
SUMMARY:Freedom Games Spring Showcase at PAX East 2022
DESCRIPTION:Freedom Games will host the Freedom Games Spring Showcase at PAX East 2022 on April 21 from 1:00 p.m. PT / 4:00 p.m. ET to 2:00 p.m. PT / 5:00 p.m. ET. You will be able to watch it on Twitch.
URL:https://www.gematsu.com/event/freedom-games-spring-showcase-at-pax-east-2022
ATTACH;FMTTYPE=image/jpeg:https://www.gematsu.com/wp-content/uploads/2022/04/Event_PAX-East-Freedom-Games_04-21-22.jpg
END:VEVENT
END:VCALENDAR