BEGIN:VCALENDAR
VERSION:2.0
PRODID:-//Gematsu - ECPv5.16.4//NONSGML v1.0//EN
CALSCALE:GREGORIAN
METHOD:PUBLISH
X-WR-CALNAME:Gematsu
X-ORIGINAL-URL:https://www.gematsu.com
X-WR-CALDESC:Events for Gematsu
BEGIN:VTIMEZONE
TZID:America/New_York
BEGIN:DAYLIGHT
TZOFFSETFROM:-0500
TZOFFSETTO:-0400
TZNAME:EDT
DTSTART:20220313T070000
END:DAYLIGHT
BEGIN:STANDARD
TZOFFSETFROM:-0400
TZOFFSETTO:-0500
TZNAME:EST
DTSTART:20221106T060000
END:STANDARD
END:VTIMEZONE
BEGIN:VEVENT
DTSTART;TZID=America/New_York:20220303T060000
DTEND;TZID=America/New_York:20220303T080000
DTSTAMP:20260419T171846
CREATED:20220225T151244Z
LAST-MODIFIED:20220225T151244Z
UID:723324-1646287200-1646294400@www.gematsu.com
SUMMARY:Metal Max Girls' Talk: Metal Max 30th Anniversary Broadcast Continued
DESCRIPTION:Kadokawa Games will host the “Metal Max Girls’ Talk: Metal Max 30th Anniversary Broadcast Continued” live stream on March 3 at 20:00 JST. You will be able to watch it on YouTube and Niconico. \nThe broadcast\, which features a girls-only cast on stage in celebration of Hinamatsuri (Girls’ Day) in Japan\, will share new information and live gameplay for Metal Dogs\, as well as discuss the Metal Max series from a female perspective.   \nPresenters include Erika Ishitobi (Toni voice actor in Metal Max Xeno and Metal Max Xeno: Reborn)\, ELFI Kaya (music production for Metal Max Xeno\, Metal Max Xeno: Reborn\, and Metal Dogs)\, and other Metal Max series female public relations and production staff not announced. \nOnline guests\, who will not appear on stage\, include Hiroshi Miyaoka (series creator)\, Satoshi Kadokura (series composer)\, Yuusuke Tomono (Metal Max Xeno: Reborn and Metal Dogs director)\, and others not announced. \nThe “New Metal Max Music Works / True End of Century Girls-Only Gathering” segment scheduled for the latter half of the broadcast will be limited to Niconico Premium members only.
URL:https://www.gematsu.com/event/metal-max-girls-talk-metal-max-30th-anniversary-broadcast-continued
ATTACH;FMTTYPE=image/jpeg:https://www.gematsu.com/wp-content/uploads/2022/02/Event_Metal-Dogs_03-03-22.jpg
END:VEVENT
END:VCALENDAR