BEGIN:VCALENDAR
VERSION:2.0
PRODID:-//Gematsu - ECPv5.16.4//NONSGML v1.0//EN
CALSCALE:GREGORIAN
METHOD:PUBLISH
X-WR-CALNAME:Gematsu
X-ORIGINAL-URL:https://www.gematsu.com
X-WR-CALDESC:Events for Gematsu
BEGIN:VTIMEZONE
TZID:America/New_York
BEGIN:DAYLIGHT
TZOFFSETFROM:-0500
TZOFFSETTO:-0400
TZNAME:EDT
DTSTART:20210314T070000
END:DAYLIGHT
BEGIN:STANDARD
TZOFFSETFROM:-0400
TZOFFSETTO:-0500
TZNAME:EST
DTSTART:20211107T060000
END:STANDARD
END:VTIMEZONE
BEGIN:VEVENT
DTSTART;TZID=America/New_York:20211122T060000
DTEND;TZID=America/New_York:20211122T061500
DTSTAMP:20260420T184838
CREATED:20211117T185829Z
LAST-MODIFIED:20211122T154035Z
UID:705194-1637560800-1637561700@www.gematsu.com
SUMMARY:The Idolmaster: Starlit Season - Starlit Report: DLC Special
DESCRIPTION:Bandai Namco will host the “The Idolmaster: Starlit Season Starlit Report: Downloadable Content Special” live stream on November 22 at 20:00 JST. You will be able to watch it on YouTube and Niconico. \nThe broadcast will feature the latest information on the October 14-released The Idolmaster: Starlit Season\, including information on its post-launch downloadable content. Presenters include producer Hayato Kutaragi. \nIt should be noted that this will be a pre-recorded broadcast and subtitled for viewers in Asia.
URL:https://www.gematsu.com/event/the-idolmaster-starlit-season-starlit-report-dlc-special
ATTACH;FMTTYPE=image/jpeg:https://www.gematsu.com/wp-content/uploads/2021/11/Event_Imas-Starlit-Season_11-22-21.jpg
END:VEVENT
END:VCALENDAR