BEGIN:VCALENDAR
VERSION:2.0
PRODID:-//Gematsu - ECPv5.16.4//NONSGML v1.0//EN
CALSCALE:GREGORIAN
METHOD:PUBLISH
X-WR-CALNAME:Gematsu
X-ORIGINAL-URL:https://www.gematsu.com
X-WR-CALDESC:Events for Gematsu
BEGIN:VTIMEZONE
TZID:America/New_York
BEGIN:DAYLIGHT
TZOFFSETFROM:-0500
TZOFFSETTO:-0400
TZNAME:EDT
DTSTART:20210314T070000
END:DAYLIGHT
BEGIN:STANDARD
TZOFFSETFROM:-0400
TZOFFSETTO:-0500
TZNAME:EST
DTSTART:20211107T060000
END:STANDARD
END:VTIMEZONE
BEGIN:VEVENT
DTSTART;TZID=America/New_York:20210728T130000
DTEND;TZID=America/New_York:20210728T160000
DTSTAMP:20260419T141920
CREATED:20210728T185840Z
LAST-MODIFIED:20210728T185840Z
UID:681208-1627477200-1627488000@www.gematsu.com
SUMMARY:Idea Factory International Online Summer Event 2021
DESCRIPTION:Idea Factory International will host the Idea Factory International Online Summer Event on July 28 at 10:00 a.m. PT / 1:00 p.m. ET. You will be able to watch it on YouTube and Twitch. \nThe broadcast will feature announcements\, merchendise drops via IFI’s Online Store\, interviews\, an exclusive Tsunako art charity auction\, and more.
URL:https://www.gematsu.com/event/idea-factory-international-online-summer-event-2021
ATTACH;FMTTYPE=image/jpeg:https://www.gematsu.com/wp-content/uploads/2021/07/Event_IFI_07-28-21.jpg
END:VEVENT
END:VCALENDAR