BEGIN:VCALENDAR
VERSION:2.0
PRODID:-//Gematsu - ECPv5.16.4//NONSGML v1.0//EN
CALSCALE:GREGORIAN
METHOD:PUBLISH
X-WR-CALNAME:Gematsu
X-ORIGINAL-URL:https://www.gematsu.com
X-WR-CALDESC:Events for Gematsu
BEGIN:VTIMEZONE
TZID:America/New_York
BEGIN:DAYLIGHT
TZOFFSETFROM:-0500
TZOFFSETTO:-0400
TZNAME:EDT
DTSTART:20210314T070000
END:DAYLIGHT
BEGIN:STANDARD
TZOFFSETFROM:-0400
TZOFFSETTO:-0500
TZNAME:EST
DTSTART:20211107T060000
END:STANDARD
END:VTIMEZONE
BEGIN:VEVENT
DTSTART;TZID=America/New_York:20210608T110000
DTEND;TZID=America/New_York:20210608T111000
DTSTAMP:20260419T123446
CREATED:20210604T153614Z
LAST-MODIFIED:20220110T033010Z
UID:671712-1623150000-1623150600@www.gematsu.com
SUMMARY:eastasiasoft Summer Showcase 2021
DESCRIPTION:eastasiasoft will host the eastasiasoft Summer Showcase 2021 on June 8 at 8:00 a.m. PT / 11:00 a.m. ET. You will be able to watch it on YouTube. \nThe broadcast will feature 10 titles eastasiasoft plans to release in 2021\, including “a stellar selection of games preparing to launch in June and July\,” and “some surprise announcements\, too.”
URL:https://www.gematsu.com/event/eastasiasoft-summer-showcase-2021
ATTACH;FMTTYPE=image/jpeg:https://www.gematsu.com/wp-content/uploads/2021/06/Event_Eastasiasoft-Summer_06-08-21.jpg
END:VEVENT
END:VCALENDAR