BEGIN:VCALENDAR
VERSION:2.0
PRODID:-//Gematsu - ECPv5.16.4//NONSGML v1.0//EN
CALSCALE:GREGORIAN
METHOD:PUBLISH
X-WR-CALNAME:Gematsu
X-ORIGINAL-URL:https://www.gematsu.com
X-WR-CALDESC:Events for Gematsu
BEGIN:VTIMEZONE
TZID:America/New_York
BEGIN:DAYLIGHT
TZOFFSETFROM:-0500
TZOFFSETTO:-0400
TZNAME:EDT
DTSTART:20250309T070000
END:DAYLIGHT
BEGIN:STANDARD
TZOFFSETFROM:-0400
TZOFFSETTO:-0500
TZNAME:EST
DTSTART:20251102T060000
END:STANDARD
END:VTIMEZONE
BEGIN:VEVENT
DTSTART;TZID=America/New_York:20250822T073000
DTEND;TZID=America/New_York:20250822T083000
DTSTAMP:20260421T083332
CREATED:20250820T050636Z
LAST-MODIFIED:20250820T050636Z
UID:986337-1755847800-1755851400@www.gematsu.com
SUMMARY:Zenless Zone Zero Version 2.2 "Do Not Go Gentle Into That Good Night" Special Program
DESCRIPTION:miHoYo will host the Zenless Zone Zero Version 2.2 “Do Not Go Gentle Into That Good Night” Special Program on August 22 at 4:30 a.m. PT / 7:30 a.m. ET. You will be able to watch it on YouTube (English\, Japanese\, Korean\, Traditional Chinese). \nDuring the broadcast\, the development team will present the latest content coming to version 2.2\, including the reveal of Seed and Orphie & Magus’ combat abilities\, and the story between Obol Squad and the Exaltists. A redemption code will also be dropped.
URL:https://www.gematsu.com/event/zenless-zone-zero-version-2-2-do-not-go-gentle-into-that-good-night-special-program
ATTACH;FMTTYPE=image/jpeg:https://www.gematsu.com/wp-content/uploads/2025/08/Event_ZZZ_08-22-25.jpg
END:VEVENT
END:VCALENDAR