BEGIN:VCALENDAR
VERSION:2.0
PRODID:-//Gematsu - ECPv5.16.4//NONSGML v1.0//EN
CALSCALE:GREGORIAN
METHOD:PUBLISH
X-WR-CALNAME:Gematsu
X-ORIGINAL-URL:https://www.gematsu.com
X-WR-CALDESC:Events for Gematsu
BEGIN:VTIMEZONE
TZID:America/New_York
BEGIN:DAYLIGHT
TZOFFSETFROM:-0500
TZOFFSETTO:-0400
TZNAME:EDT
DTSTART:20220313T070000
END:DAYLIGHT
BEGIN:STANDARD
TZOFFSETFROM:-0400
TZOFFSETTO:-0500
TZNAME:EST
DTSTART:20221106T060000
END:STANDARD
END:VTIMEZONE
BEGIN:VEVENT
DTSTART;TZID=America/New_York:20220429T033000
DTEND;TZID=America/New_York:20220429T043000
DTSTAMP:20260420T233524
CREATED:20220422T155257Z
LAST-MODIFIED:20220422T155257Z
UID:734408-1651203000-1651206600@www.gematsu.com
SUMMARY:Yakuza Super Talk Stage at Niconico Chokaigi 2022
DESCRIPTION:Sega will host the “Yakuza Super Talk Stage” at Niconico Chokaigi 2022 on April 29 at 16:30 JST. You will be able to watch it on Niconico. \nHosted by freelance announcer Atsuko Uchida\, the broadcast will feature Ryu Ga Gotoku Studio director and executive producer Masayoshi Yokoyama\, who will answer questions about Yakuza. “You may even be able to hear about the future of Yakuza and such things that only the director of Ryu Ga Gotoku Studio can answer!”
URL:https://www.gematsu.com/event/yakuza-super-talk-stage-at-niconico-chokaigi-2022
ATTACH;FMTTYPE=image/jpeg:https://www.gematsu.com/wp-content/uploads/2022/04/Evnt_Yakuza_04-29-22.jpg
END:VEVENT
END:VCALENDAR