BEGIN:VCALENDAR
VERSION:2.0
PRODID:-//Gematsu - ECPv5.16.4//NONSGML v1.0//EN
CALSCALE:GREGORIAN
METHOD:PUBLISH
X-WR-CALNAME:Gematsu
X-ORIGINAL-URL:https://www.gematsu.com
X-WR-CALDESC:Events for Gematsu
BEGIN:VTIMEZONE
TZID:America/New_York
BEGIN:DAYLIGHT
TZOFFSETFROM:-0500
TZOFFSETTO:-0400
TZNAME:EDT
DTSTART:20250309T070000
END:DAYLIGHT
BEGIN:STANDARD
TZOFFSETFROM:-0400
TZOFFSETTO:-0500
TZNAME:EST
DTSTART:20251102T060000
END:STANDARD
END:VTIMEZONE
BEGIN:VEVENT
DTSTART;TZID=America/New_York:20251212T060000
DTEND;TZID=America/New_York:20251212T070000
DTSTAMP:20260424T070116
CREATED:20251205T032240Z
LAST-MODIFIED:20251205T032240Z
UID:1011860-1765519200-1765522800@www.gematsu.com
SUMMARY:Wuthering Waves Version 3.0 Preview Special Broadcast
DESCRIPTION:Kuro Games will host the Wuthering Waves Version 3.0 Preview Special Broadcast on December 12 at 3:00 a.m. PT / 6:00 a.m. ET / 20:00 JST. You will be able to watch it on YouTube (English\, Japanese\, Korean).
URL:https://www.gematsu.com/event/wuthering-waves-version-3-0-preview-special-broadcast
ATTACH;FMTTYPE=image/jpeg:https://www.gematsu.com/wp-content/uploads/2025/12/Event_Wuthering-Waves_12-12-25.jpg
END:VEVENT
END:VCALENDAR