BEGIN:VCALENDAR
VERSION:2.0
PRODID:-//Gematsu - ECPv5.16.4//NONSGML v1.0//EN
CALSCALE:GREGORIAN
METHOD:PUBLISH
X-WR-CALNAME:Gematsu
X-ORIGINAL-URL:https://www.gematsu.com
X-WR-CALDESC:Events for Gematsu
BEGIN:VTIMEZONE
TZID:America/New_York
BEGIN:DAYLIGHT
TZOFFSETFROM:-0500
TZOFFSETTO:-0400
TZNAME:EDT
DTSTART:20230312T070000
END:DAYLIGHT
BEGIN:STANDARD
TZOFFSETFROM:-0400
TZOFFSETTO:-0500
TZNAME:EST
DTSTART:20231105T060000
END:STANDARD
END:VTIMEZONE
BEGIN:VEVENT
DTSTART;TZID=America/New_York:20230414T073000
DTEND;TZID=America/New_York:20230414T090000
DTSTAMP:20260423T200134
CREATED:20230411T071326Z
LAST-MODIFIED:20230414T075617Z
UID:802822-1681457400-1681462800@www.gematsu.com
SUMMARY:Wuthering Waves Closed Beta Preview
DESCRIPTION:Kuro Games will host the Wuthering Waves Closed Beta Preview live stream on April 14 at 4:30 a.m. PT / 7:30 a.m. ET. You will be able to watch it on YouTube (English\, Japanese). \nThe broadcast will feature a first look at Wuthering Waves closed beta test gameplay and details of new areas\, characters\, and enemies\, as well as a reveal the progress Kuro Games has made over the course of the past six months.
URL:https://www.gematsu.com/event/wuthering-waves-closed-beta-preview
ATTACH;FMTTYPE=image/jpeg:https://www.gematsu.com/wp-content/uploads/2023/04/Event_Wuthering-Waves_04-14-23.jpg
END:VEVENT
END:VCALENDAR