BEGIN:VCALENDAR
VERSION:2.0
PRODID:-//Gematsu - ECPv5.16.4//NONSGML v1.0//EN
CALSCALE:GREGORIAN
METHOD:PUBLISH
X-WR-CALNAME:Gematsu
X-ORIGINAL-URL:https://www.gematsu.com
X-WR-CALDESC:Events for Gematsu
BEGIN:VTIMEZONE
TZID:America/New_York
BEGIN:DAYLIGHT
TZOFFSETFROM:-0500
TZOFFSETTO:-0400
TZNAME:EDT
DTSTART:20240310T070000
END:DAYLIGHT
BEGIN:STANDARD
TZOFFSETFROM:-0400
TZOFFSETTO:-0500
TZNAME:EST
DTSTART:20241103T060000
END:STANDARD
END:VTIMEZONE
BEGIN:VEVENT
DTSTART;TZID=America/New_York:20240608T120000
DTEND;TZID=America/New_York:20240608T130000
DTSTAMP:20260425T224344
CREATED:20240507T210855Z
LAST-MODIFIED:20240607T042506Z
UID:881382-1717848000-1717851600@www.gematsu.com
SUMMARY:Wholesome Direct 2024
DESCRIPTION:Wholesome Games will host Wholesome Direct 2024 on June 8 at 9:00 a.m. PT / 12:00 p.m. ET. You will be able to watch it on YouTube and Twitch. \nThe hour-long broadcast will showcase a “vibrant lineup of artistic\, uplifting\, and emotionally resonant games from developers of all sizes from around the world.”
URL:https://www.gematsu.com/event/wholesome-direct-2024
ATTACH;FMTTYPE=image/jpeg:https://www.gematsu.com/wp-content/uploads/2024/05/Event_Wholesome-Direct-Inits_06-08-24.jpg
END:VEVENT
END:VCALENDAR