BEGIN:VCALENDAR
VERSION:2.0
PRODID:-//Gematsu - ECPv5.16.4//NONSGML v1.0//EN
CALSCALE:GREGORIAN
METHOD:PUBLISH
X-WR-CALNAME:Gematsu
X-ORIGINAL-URL:https://www.gematsu.com
X-WR-CALDESC:Events for Gematsu
BEGIN:VTIMEZONE
TZID:America/New_York
BEGIN:DAYLIGHT
TZOFFSETFROM:-0500
TZOFFSETTO:-0400
TZNAME:EDT
DTSTART:20210314T070000
END:DAYLIGHT
BEGIN:STANDARD
TZOFFSETFROM:-0400
TZOFFSETTO:-0500
TZNAME:EST
DTSTART:20211107T060000
END:STANDARD
END:VTIMEZONE
BEGIN:VEVENT
DTSTART;TZID=America/New_York:20210623T070000
DTEND;TZID=America/New_York:20210623T072000
DTSTAMP:20260421T034237
CREATED:20210622T124204Z
LAST-MODIFIED:20210622T124204Z
UID:676084-1624431600-1624432800@www.gematsu.com
SUMMARY:Type-Moon Times Vol. 3
DESCRIPTION:Aniplex will host the “Type-Moon Times Vol. 3” information program on June 23 at 20:00 JST. You will be able to watch it on YouTube. \nThe 20-minute program will feature the latest information on Melty Blood: Type Lumina.
URL:https://www.gematsu.com/event/type-moon-times-vol-3
ATTACH;FMTTYPE=image/jpeg:https://www.gematsu.com/wp-content/uploads/2021/06/Event_Type-Moon_06-23-21.jpg
END:VEVENT
END:VCALENDAR