BEGIN:VCALENDAR
VERSION:2.0
PRODID:-//Gematsu - ECPv5.16.4//NONSGML v1.0//EN
CALSCALE:GREGORIAN
METHOD:PUBLISH
X-WR-CALNAME:Gematsu
X-ORIGINAL-URL:https://www.gematsu.com
X-WR-CALDESC:Events for Gematsu
BEGIN:VTIMEZONE
TZID:America/New_York
BEGIN:DAYLIGHT
TZOFFSETFROM:-0500
TZOFFSETTO:-0400
TZNAME:EDT
DTSTART:20250309T070000
END:DAYLIGHT
BEGIN:STANDARD
TZOFFSETFROM:-0400
TZOFFSETTO:-0500
TZNAME:EST
DTSTART:20251102T060000
END:STANDARD
END:VTIMEZONE
BEGIN:VEVENT
DTSTART;TZID=America/New_York:20250529T130000
DTEND;TZID=America/New_York:20250529T140000
DTSTAMP:20260425T135719
CREATED:20250520T131620Z
LAST-MODIFIED:20250520T131620Z
UID:965856-1748523600-1748527200@www.gematsu.com
SUMMARY:Thinky Direct: May 29\, 2025
DESCRIPTION:Thinky Games will host Thinky Direct on May 29 at 10:00 a.m. PT / 1:00 p.m. ET. You will be able to watch it on YouTube and Twitch. \nThe broadcast will feature exclusive trailers\, world premieres\, and reveals for “puzzly problem-solving games” from publishers and developers including Akupara Games\, Corey Martin\, Draknek & Friends\, Kini Games\, Wholesome Games Presents\, and many others.
URL:https://www.gematsu.com/event/thinky-direct-may-29-2025
ATTACH;FMTTYPE=image/png:https://www.gematsu.com/wp-content/uploads/2025/05/Event_Thinky-Direct_05-29-25.png
END:VEVENT
END:VCALENDAR