BEGIN:VCALENDAR
VERSION:2.0
PRODID:-//Gematsu - ECPv5.16.4//NONSGML v1.0//EN
CALSCALE:GREGORIAN
METHOD:PUBLISH
X-WR-CALNAME:Gematsu
X-ORIGINAL-URL:https://www.gematsu.com
X-WR-CALDESC:Events for Gematsu
BEGIN:VTIMEZONE
TZID:America/New_York
BEGIN:DAYLIGHT
TZOFFSETFROM:-0500
TZOFFSETTO:-0400
TZNAME:EDT
DTSTART:20200308T070000
END:DAYLIGHT
BEGIN:STANDARD
TZOFFSETFROM:-0400
TZOFFSETTO:-0500
TZNAME:EST
DTSTART:20201101T060000
END:STANDARD
END:VTIMEZONE
BEGIN:VEVENT
DTSTART;TZID=America/New_York:20201014T140000
DTEND;TZID=America/New_York:20201014T180000
DTSTAMP:20260422T191458
CREATED:20201007T032441Z
LAST-MODIFIED:20201014T180159Z
UID:611073-1602684000-1602698400@www.gematsu.com
SUMMARY:The MIX Next 2020
DESCRIPTION:Interabang Entertainment will host The MIX Next on October 14 at 11:00 a.m. PT / 2:00 p.m. ET featuring new game reveals\, videos\, special guests\, and more. A post-show will follow at 1:00 p.m. PT / 4:00 p.m. ET featuring extended game demos and developer interview with teams from around the world. You will be able to watch it on Twitch. \nThe following games are confirmed to be featured: \n30XX (Consoles\, PC) by Batterystaple GamesArt of Rally (PC) by FunselektorAWAY: The Survival Series (PS4\, PC) by Breaking WallsAxiom Verge 2 (Switch) by Thomas Happ GamesBlack Skylands (PS4\, Xbox One\, Switch\, PC) by Hungry Couch Games / tinyBuildBlue Fire (PS4\, Xbox One\, Switch\, PC) by Graffiti GamesButton City (PC) by SubliminalCalico (PS4\, Xbox One\, Switch\, PC) by CatBean GamesCarto (PS4\, Xbox One\, Switch\, PC\, Mac) by Sunhead GamesCloud Gardens (PC) by Noio GamesDate Night Bowling (PC) by Serenity ForgeDemon Turf (Xbox Series\, Xbox One\, Switch\, PC) by FabrazDoors of Insanity (PC) by OnesharkFloor 13: Deep State (PC) by Oversight ProductionsGestalt: Steam & Cinder (PS4\, Xbox One\, Switch\, PC) by Metamorphosis GamesGone Viral (PC) by Skullbot GamesGRIME (PC) by CloverbiteJustice Sucks: Recharged (PC) by Samurai PunkKosmokrats (PC) by Pixel DelusionLake (Xbox Series\, Xbox One\, PC) by GamiousThe Last Spell (PC) by CCCP / The Arcade CrewLegend of Keepers (PC) by Goblinz StudioMayhem in Single Valley (PS4\, Xbox One\, Switch\, PC) by Fluxscopic / tinyBuildMonster Prom: XXL (PS4\, Xbox One\, Switch\, PC) by Beautiful GlitchMonster Prom 2: Monster Camp (PC) by Beautiful GlitchNour: Play With Your Food (PS5\, PC\, Mac) by Terrifying JellyfishOnsen Master (Consoles\, PC\, Mac) by Waking Oni GamesOperation: Tango (PS4\, Xbox One\, PC) by Clever Plays StudioOrbital Bullet (PC) by SmokeStabOverloop (PC) by Charge GamesPrincess Farmer (PS4\, Xbox One\, Switch\, PC) by Samobee GamesProdeus (PC) by Bounding BoxPumpkin Jack (PS4 Xbox One\, Switch\, PC) by Headup GamesRadical Relocation (PC) by Winglett EntertainmentRawmen (PC) by AnimalRevita (PC) by BenStarRogue State Revolution (PC) by Little Red Dog GamesThe Riftbreaker (PS4\, Xbox One\, PC) by EXOR StudiosRing of Pain (Switch\, PC) by Simon Boxer and Twice DifferentRun Die Run Again (RDRA) (Xbox Series\, Xbox One\, PC) by RetroNinja GamesThe Signifier (PS4\, Xbox One\, PC\, Mac) by PlaymestudioSpace Crew (PS4\, Xbox One\, Switch\, PC) by Runner DuckTeacup (Consoles\, PC) by Smarto ClubThere Is No Light (PS4\, Xbox One\, Switch\, PC) by ZelArtTinkertown (PC) by Headup GamesTinyshot (PC) by ZaxTransient (PS4\, Xbox One\, PC) by Stormling StudiosTurnip Boy Commits Tax Evasion (PC) by Snoozy KazooUndungeon (PC) by Laughing Machines / tinyBuildVictory Heat Rally (PC) by Team VHRVigil: The Longest Night (Switch\, PC) by Glass Heart StudioWonhon: A Vengeful Spirit (PC) by Busan Sanai GamesYou Suck at Parking (Consoles\, PC) by Happy VolcanoZelter (PC) by G1 Playground
URL:https://www.gematsu.com/event/the-mix-next-2020
ATTACH;FMTTYPE=image/jpeg:https://www.gematsu.com/wp-content/uploads/2020/10/Event_The-MIX-Next_10-14-20.jpg
END:VEVENT
END:VCALENDAR