BEGIN:VCALENDAR
VERSION:2.0
PRODID:-//Gematsu - ECPv5.16.4//NONSGML v1.0//EN
CALSCALE:GREGORIAN
METHOD:PUBLISH
X-WR-CALNAME:Gematsu
X-ORIGINAL-URL:https://www.gematsu.com
X-WR-CALDESC:Events for Gematsu
BEGIN:VTIMEZONE
TZID:America/New_York
BEGIN:DAYLIGHT
TZOFFSETFROM:-0500
TZOFFSETTO:-0400
TZNAME:EDT
DTSTART:20210314T070000
END:DAYLIGHT
BEGIN:STANDARD
TZOFFSETFROM:-0400
TZOFFSETTO:-0500
TZNAME:EST
DTSTART:20211107T060000
END:STANDARD
END:VTIMEZONE
BEGIN:VEVENT
DTSTART;TZID=America/New_York:20210117T050000
DTEND;TZID=America/New_York:20210117T060000
DTSTAMP:20260419T123634
CREATED:20201229T154455Z
LAST-MODIFIED:20201229T154455Z
UID:646109-1610859600-1610863200@www.gematsu.com
SUMMARY:The Idolmaster: Starlit Season - Starlit Report 2
DESCRIPTION:https://www.youtube.com/watch?v=CZQD3BpMMNc \nBandai Namco will host the second official “Starlit Report” live stream for The Idolmaster: Starlit Season on January 17\, 2021 at 19:00 JST\, where it will share the latest information on the upcoming game. You will be able to watch it on YouTube and Niconico. \nThe live stream will feature the following presenters: \nManami Numakura (Hibiki Ganaha voice actor)Hiromi Igarashi (Anzu Futaba voice actor)Haruka Yamazaki (Mirai Kasuga voice actor)Ryouko Maekawa (Tenka Osaki voice actor)Youzou Sakagami (The Idolmaster series general producer)Hayato Kutaragi (The Idolmaster: Starlit Season producer)
URL:https://www.gematsu.com/event/the-idolmaster-starlit-season-starlit-report-2
ATTACH;FMTTYPE=image/jpeg:https://www.gematsu.com/wp-content/uploads/2020/12/Event_The-Idolmaster_01-17-20.jpg
END:VEVENT
END:VCALENDAR