BEGIN:VCALENDAR
VERSION:2.0
PRODID:-//Gematsu - ECPv5.16.4//NONSGML v1.0//EN
CALSCALE:GREGORIAN
METHOD:PUBLISH
X-WR-CALNAME:Gematsu
X-ORIGINAL-URL:https://www.gematsu.com
X-WR-CALDESC:Events for Gematsu
BEGIN:VTIMEZONE
TZID:America/New_York
BEGIN:DAYLIGHT
TZOFFSETFROM:-0500
TZOFFSETTO:-0400
TZNAME:EDT
DTSTART:20240310T070000
END:DAYLIGHT
BEGIN:STANDARD
TZOFFSETFROM:-0400
TZOFFSETTO:-0500
TZNAME:EST
DTSTART:20241103T060000
END:STANDARD
END:VTIMEZONE
BEGIN:VEVENT
DTSTART;TZID=America/New_York:20240607T170000
DTEND;TZID=America/New_York:20240607T183000
DTSTAMP:20260420T020859
CREATED:20240313T185141Z
LAST-MODIFIED:20240607T154900Z
UID:869228-1717779600-1717785000@www.gematsu.com
SUMMARY:Summer Game Fest 2024 Showcase
DESCRIPTION:The Summer Game Fest 2024 Showcase will take place on June 7 at 2:00 p.m. PT / 5:00 p.m. ET. You will be able to watch it on YouTube\, Twitch\, Twitter\, Facebook\, and more. \nThe two-hour showcase will feature announcements\, trailers\, and more as it shares “a first look at the most anticipated games” and “what’s next from the video game industry.” \nImmediately following the showcase\, Day of the Devs: Summer Game Fest Edition will air\, featuring more than a dozen games from game developers of various backgrounds. \nOutside of the showcase\, other live streams and events are also planned for the duration of Summer Game Fest 2024. The full lineup of participants and activities will be announced in the coming months. \nSummer Game Fest Play Days\, an invite-only media and influencer event for hands-on gameplay in downtown Los Angeles\, will run from June 8 to 10. \nConfirmed Titles\nThe following titles are confirmed to appear at Summer Game Fest 2024 Showcase: \n2K – New entry in “one of 2K’s biggest and most beloved franchises.” (via)Among Us – Animated series sneak peek. (via)Batman: Arkham Shadow – Full reveal. (via)Blumhouse Games – Publisher reveal. (via)Delta Force: Hawk Ops – New trailer. (via)Dragon Ball: Sparking! ZERO – New trailer. (via)Dune: Awakening – Story cinematic. (via)The First Descendant – Release date announcement. (via)Honkai: Star Rail – New trailer. (via)Hyper Light Breaker – New trailer. (via)Kingdom Come: Deliverance II – New trailer. (via)Metaphor: ReFantazio – Live stage appearance from ATLUS’ Katsura Hashino and Shigenori Soejima with new details. (via)Monster Hunter Wilds – New trailer. (via)Neva – Gameplay trailer. (via)Palworld – Exciting new reveals. (via)Phantom Blade Zero – New trailer. (via)Remedy Entertainment – Alan Wake II downloadable content? (via)skate. – New trailer. (via)Slitterhead – Gameplay reveal. (via)Two Star Games – New game announcement. (via)Uncapped Games – Real-time strategy game announcement. (via)Unknown 9: Awakening – New trailer. (via)Visai Games – Small announcement about next project. (via)\nParticipating Companies\nThe following companies are confirmed to be participating in Summer Game Fest 2024 activities: \n2KAmazon GamesAmazing Seasun GamesAnnapurna InteractiveArc GamesAtariATLUSBandai Namco EntertainmentBlumhouse GamesBokeh Game StudioCapcomDay of the DevsDeep SilverDiscordDolbyDevolver DigitalElectronic ArtsEmbark StudiosEpic GamesFocus EntertainmentFuncomHoYoverse (miHoYo)iam8bit PresentsIndie AngelsInnerslothIRONMACEJyamma GamesLevel InfiniteMagic: The GatheringMetaNCSOFTNetEase GamesNetflix GamesNexonNianticPLAIONParty AnimalsPlayStation (Sony Interactive Entertainment)PocketpairPrivate DivisionRazerRiot GamesS-GAMESEGASNKSamsung Gaming HubSteamSunblinkSupercellThunderful GamesTiMi Studio GroupTorn Banner StudiosUbisoftUncapped GamesWarner Bros. GamesXbox (Microsoft Gaming)
URL:https://www.gematsu.com/event/summer-game-fest-2024-showcase
ATTACH;FMTTYPE=image/jpeg:https://www.gematsu.com/wp-content/uploads/2024/03/Event_SGF-2024-Showcase_06-07-24.jpg
END:VEVENT
END:VCALENDAR