BEGIN:VCALENDAR
VERSION:2.0
PRODID:-//Gematsu - ECPv5.16.4//NONSGML v1.0//EN
CALSCALE:GREGORIAN
METHOD:PUBLISH
X-WR-CALNAME:Gematsu
X-ORIGINAL-URL:https://www.gematsu.com
X-WR-CALDESC:Events for Gematsu
BEGIN:VTIMEZONE
TZID:America/New_York
BEGIN:DAYLIGHT
TZOFFSETFROM:-0500
TZOFFSETTO:-0400
TZNAME:EDT
DTSTART:20250309T070000
END:DAYLIGHT
BEGIN:STANDARD
TZOFFSETFROM:-0400
TZOFFSETTO:-0500
TZNAME:EST
DTSTART:20251102T060000
END:STANDARD
END:VTIMEZONE
BEGIN:VEVENT
DTSTART;TZID=America/New_York:20251111T170000
DTEND;TZID=America/New_York:20251111T174500
DTSTAMP:20260422T214145
CREATED:20251110T131049Z
LAST-MODIFIED:20251111T215335Z
UID:1005583-1762880400-1762883100@www.gematsu.com
SUMMARY:State of Play Japan: November 11\, 2025
DESCRIPTION:Sony Interactive Entertainment will host State of Play Japan\, a special broadcast focused on games created in Japan and Asia\, on November 11 at 2:00 p.m. PT / 5:00 p.m. ET / November 12 at 7:00 a.m. JST. You will be able to watch it on YouTube (English subtitles\, Japanese audio) and Twitch. \nThe broadcast\, which will run for over 40 minutes\, will feature announcements and updates for games created in Japan and across Asia\, including interviews and new looks at anticipated titles\, from “beloved series to distinctive indie creatures\,” along with “a few other exciting updates.” It will be hosted by voice actor Yuki Kaji.
URL:https://www.gematsu.com/event/state-of-play-japan-november-11-2025
ATTACH;FMTTYPE=image/jpeg:https://www.gematsu.com/wp-content/uploads/2025/11/Event_State-of-Play_11-11-25.jpg
END:VEVENT
END:VCALENDAR