BEGIN:VCALENDAR
VERSION:2.0
PRODID:-//Gematsu - ECPv5.16.4//NONSGML v1.0//EN
CALSCALE:GREGORIAN
METHOD:PUBLISH
X-WR-CALNAME:Gematsu
X-ORIGINAL-URL:https://www.gematsu.com
X-WR-CALDESC:Events for Gematsu
BEGIN:VTIMEZONE
TZID:America/New_York
BEGIN:DAYLIGHT
TZOFFSETFROM:-0500
TZOFFSETTO:-0400
TZNAME:EDT
DTSTART:20190310T070000
END:DAYLIGHT
BEGIN:STANDARD
TZOFFSETFROM:-0400
TZOFFSETTO:-0500
TZNAME:EST
DTSTART:20191103T060000
END:STANDARD
END:VTIMEZONE
BEGIN:VEVENT
DTSTART;TZID=America/New_York:20191116T030000
DTEND;TZID=America/New_York:20191116T060000
DTSTAMP:20260423T014856
CREATED:20191029T012531Z
LAST-MODIFIED:20201030T155344Z
UID:299108-1573873200-1573884000@www.gematsu.com
SUMMARY:Sony Interactive Entertainment JAPAN Studio "Fun" Meeting 2019
DESCRIPTION:https://www.youtube.com/watch?v=7fxDwBg6teQ \nSony Interactive Entertainment JAPAN Studio will host “Japan Studio ‘Fun’ Meeting 2019\,” this year’s edition of its annual community event started in 2017\, on November 16 from 17:00 to 20:00 JST at SSJ Shinagawa Building in Tokyo. \nHere is an outline of the event: \nFood buffet and free drinks (alcohol included for those ages 20 and up)Special souvenirsA live talk by developers from Japan StudioGame showdown and quiz tournamentToro and Ape Escape\, which are celebrating their 20th anniversary\, will appear alongside Astro from Astro Bot (Editor’s Note: This is referencing costumed characters)The event will be live streamed on YouTube\nThe event will feature the following Sony Interactive Entertainment JAPAN Studio staff members: \nShuhei Yoshida (Sony Interactive Entertainment Worldwide Studios president)Kazuo Kato (Sony Interactive Entertainment Product Development head)Nicolas Doucet (Astro Bot: Rescue Mission creative director / producer)Gento Morita (Astro Bot: Rescue Mission lead game designer)Sebastian Brueckner (Astro Bot: Rescue Mission art director)Miho Kinebuchi (Astro Bot: Rescue Mission character artist)Felicien Nozieres (Astro Bot: Rescue Mission artist)Mayu Kawaguchi (Astro Bot: Rescue Mission artist)Keiichiro Toyama (Gravity Rush series / Siren series creative director)Momomko Ikeda (Gravity Rush 2 associate producer)Kyosuke Wakasa (Gravity Rush 2 associate producer)Ryoko Morita (Gravity Rush 2 / Work Time Fun artist)Junya Ookura (Gravity Rush series / Siren series lead game designer)Yoshiaki Yamaguchi (Siren NT / Gravity Rush series / Knack series art director)Miki Takahashi (Siren series creature designer)Takashi Namima (Everybody’s Golf VR associate producer)Masaaki Yamagiwa (Deracine / Bloodborne / Tokyo Jungle producer)Teruyuki Toriyama (Deracine / Bloodborne / Soul Sacrifice series producer)Tomoyuki Takahashi (Knack II\, Boku no Natsuyasmumi 2 gameplay programmer and manager)Koji Hasegawa (Shadow of the Colossus / Knack series lead artist)Kazuma Kizuka (Shadow of the Colossus PS4 assistant producer)Nahoko Murao (LocoRoco series / PaRappa PS4 producer)Keigo Tsuchiya (LocoRoco<?em> series art director)Tarou Matsuda (Trash Panic / Open Me! director)Isamu Terasaka (Sony Interactive Entertainment Creative Product Services vice assistant)Ryo Sogabe (Sony Interactive Entertainment Creative Producer Services Video Department manager)Shunhei Akahoshi (Sony Interactive Entertainment JAPAN Studio associate game designer)Kazuhiro Fukaya (Sony Interactive Entertainment JAPAN Studio associate game designer)Yuika Mafune (Sony Interactive Entertainment JAPAN Studio associate artist)\nAttendance will cost 1\,000 yen\, but is limited to 150 persons. Sony will accept applications to attend from September 19 to October 20. If too many people apply\, attendees will be chosen by lottery. To apply\, fill out the participation form here.
URL:https://www.gematsu.com/event/sony-interactive-entertainment-japan-studio-fun-meeting-2019
ATTACH;FMTTYPE=image/jpeg:https://www.gematsu.com/wp-content/uploads/2019/10/Event_SIE-Japan-Studio_11-14-19.jpg
END:VEVENT
END:VCALENDAR