BEGIN:VCALENDAR
VERSION:2.0
PRODID:-//Gematsu - ECPv5.16.4//NONSGML v1.0//EN
CALSCALE:GREGORIAN
METHOD:PUBLISH
X-WR-CALNAME:Gematsu
X-ORIGINAL-URL:https://www.gematsu.com
X-WR-CALDESC:Events for Gematsu
BEGIN:VTIMEZONE
TZID:America/New_York
BEGIN:DAYLIGHT
TZOFFSETFROM:-0500
TZOFFSETTO:-0400
TZNAME:EDT
DTSTART:20220313T070000
END:DAYLIGHT
BEGIN:STANDARD
TZOFFSETFROM:-0400
TZOFFSETTO:-0500
TZNAME:EST
DTSTART:20221106T060000
END:STANDARD
END:VTIMEZONE
BEGIN:VEVENT
DTSTART;TZID=America/New_York:20220916T150000
DTEND;TZID=America/New_York:20220916T163000
DTSTAMP:20260421T214922
CREATED:20220902T045501Z
LAST-MODIFIED:20220917T004442Z
UID:762726-1663340400-1663345800@www.gematsu.com
SUMMARY:Realms Deep 2022
DESCRIPTION:3D Realms will host the Realms Deep 2022 live show on September 16 at 12:00 PM p.m. / 3:00 p.m. ET. You will be able to watch on YouTube and Twitch. \nThe hour-and-a-half showcase will highlight upcoming projects from 3D Realms and its friends around the world\, including old-school “boomer shooters\,” contemporary first-person shooters\, non-shooters\, and more. \nConfirmed titles include the dark-fantasy first-person shooter GRAVEN\, Iron Fury expansion “Aftershock\,” 90s-inspired simulation game Core Decay\, Quake-engine powered horror first-person shooter WRATH\, horror-themed shooter CULTIC\, and more. \nConfirmed developers include Bounding Box Software\, Dread XP\, Evil Guinea Pig\, Fulqrum Publishing\, HYPERSTRANGE\, Hellforge Studios\, In The Keep\, New Blood Interactive\, Nightdive Studios\, NoLight Games\, Nvidia\, Reload Magazine\, Retrovibe\, Rogue Games\, Running With Scissors\, Schmidt Workshops\, Tastyspleen\, Team 17\, Top Hat Studios\, Warcry Interactive\, and more.
URL:https://www.gematsu.com/event/realms-deep-2022
ATTACH;FMTTYPE=image/jpeg:https://www.gematsu.com/wp-content/uploads/2022/09/Event_Realms-Deep-Inits_09-16-22.jpg
END:VEVENT
END:VCALENDAR