BEGIN:VCALENDAR
VERSION:2.0
PRODID:-//Gematsu - ECPv5.16.4//NONSGML v1.0//EN
CALSCALE:GREGORIAN
METHOD:PUBLISH
X-WR-CALNAME:Gematsu
X-ORIGINAL-URL:https://www.gematsu.com
X-WR-CALDESC:Events for Gematsu
BEGIN:VTIMEZONE
TZID:America/New_York
BEGIN:DAYLIGHT
TZOFFSETFROM:-0500
TZOFFSETTO:-0400
TZNAME:EDT
DTSTART:20240310T070000
END:DAYLIGHT
BEGIN:STANDARD
TZOFFSETFROM:-0400
TZOFFSETTO:-0500
TZNAME:EST
DTSTART:20241103T060000
END:STANDARD
END:VTIMEZONE
BEGIN:VEVENT
DTSTART;TZID=America/New_York:20240819T180000
DTEND;TZID=America/New_York:20240819T181000
DTSTAMP:20260424T153301
CREATED:20240818T223506Z
LAST-MODIFIED:20240818T235450Z
UID:906656-1724090400-1724091000@www.gematsu.com
SUMMARY:Nintendo Museum Direct: August 19\, 2024
DESCRIPTION:Nintendo will host a 10-minute “Nintendo Museum Direct” broadcast on August 19 at 3:00 p.m. PT / 6:00 p.m. ET / 7:00 JST\, featuring a tour of the Nintendo Museum scheduled to open in Kyoto\, Japan this fall. You will be able to watch it on YouTube (America\, Japan). \nAccording to Nintendo\, there will be no game announcements or mention of the Nintendo Switch successor during this presentation.
URL:https://www.gematsu.com/event/nintendo-museum-direct-august-19-2024
ATTACH;FMTTYPE=image/jpeg:https://www.gematsu.com/wp-content/uploads/2024/08/Event_Nintendo-DIrect_08-19-24.jpg
END:VEVENT
END:VCALENDAR