BEGIN:VCALENDAR
VERSION:2.0
PRODID:-//Gematsu - ECPv5.16.4//NONSGML v1.0//EN
CALSCALE:GREGORIAN
METHOD:PUBLISH
X-WR-CALNAME:Gematsu
X-ORIGINAL-URL:https://www.gematsu.com
X-WR-CALDESC:Events for Gematsu
BEGIN:VTIMEZONE
TZID:America/New_York
BEGIN:DAYLIGHT
TZOFFSETFROM:-0500
TZOFFSETTO:-0400
TZNAME:EDT
DTSTART:20230312T070000
END:DAYLIGHT
BEGIN:STANDARD
TZOFFSETFROM:-0400
TZOFFSETTO:-0500
TZNAME:EST
DTSTART:20231105T060000
END:STANDARD
END:VTIMEZONE
BEGIN:VEVENT
DTSTART;TZID=America/New_York:20230419T120000
DTEND;TZID=America/New_York:20230419T122000
DTSTAMP:20260425T075059
CREATED:20230418T131506Z
LAST-MODIFIED:20230418T131506Z
UID:804078-1681905600-1681906800@www.gematsu.com
SUMMARY:Nintendo Indie World: April 19\, 2023
DESCRIPTION:Nintendo will host an Indie World Showcase on April 19 at 9:00 a.m. PT / 12:00 p.m. ET featuring roughly 20 minutes of reveals\, announcements\, and updates on upcoming indie games for Switch. You will be able to watch it on YouTube and Twitch.
URL:https://www.gematsu.com/event/nintendo-indie-world-april-19-2023
ATTACH;FMTTYPE=image/jpeg:https://www.gematsu.com/wp-content/uploads/2023/04/Event_Nintendo-Indie-World_04-19-23.jpg
END:VEVENT
END:VCALENDAR