BEGIN:VCALENDAR
VERSION:2.0
PRODID:-//Gematsu - ECPv5.16.4//NONSGML v1.0//EN
CALSCALE:GREGORIAN
METHOD:PUBLISH
X-WR-CALNAME:Gematsu
X-ORIGINAL-URL:https://www.gematsu.com
X-WR-CALDESC:Events for Gematsu
BEGIN:VTIMEZONE
TZID:America/New_York
BEGIN:DAYLIGHT
TZOFFSETFROM:-0500
TZOFFSETTO:-0400
TZNAME:EDT
DTSTART:20210314T070000
END:DAYLIGHT
BEGIN:STANDARD
TZOFFSETFROM:-0400
TZOFFSETTO:-0500
TZNAME:EST
DTSTART:20211107T060000
END:STANDARD
END:VTIMEZONE
BEGIN:VEVENT
DTSTART;TZID=America/New_York:20210702T090000
DTEND;TZID=America/New_York:20210702T100000
DTSTAMP:20260425T075441
CREATED:20210630T061910Z
LAST-MODIFIED:20210702T130457Z
UID:677227-1625216400-1625220000@www.gematsu.com
SUMMARY:Monster Hunter Stories 2: Wings of Ruin Special Pre-Launch Program
DESCRIPTION:Capcom will host the “Monster Hunter Stories 2: Wings of Ruin Special Pre-Launch Program” on July 2 at 22:00 JST. You will be able to watch it on YouTube (English\, Japanese\, Traditional Chinese\, Simplified Chinese). \nHere is an overview of the live stream\, via Capcom: \nThis event will not only feature the latest game info\, but appearances by the development team who will divulge behind-the-scenes secrets and show us brand new gameplay as well! We hope everyone will join us for this special event! \nSchedule \nOpening Theme Song Performance: “Scarlet Land Lit Up By The Heavens” by Misaki FukunagaLatest Game InformationGameplay: Co-Op Expedition QuestBehind the Scenes of Development
URL:https://www.gematsu.com/event/monster-hunter-stories-2-wings-of-ruin-special-pre-launch-program
ATTACH;FMTTYPE=image/jpeg:https://www.gematsu.com/wp-content/uploads/2021/06/Event_MHS2-HK_07-02-21.jpg
END:VEVENT
END:VCALENDAR