BEGIN:VCALENDAR
VERSION:2.0
PRODID:-//Gematsu - ECPv5.16.4//NONSGML v1.0//EN
CALSCALE:GREGORIAN
METHOD:PUBLISH
X-WR-CALNAME:Gematsu
X-ORIGINAL-URL:https://www.gematsu.com
X-WR-CALDESC:Events for Gematsu
BEGIN:VTIMEZONE
TZID:America/New_York
BEGIN:DAYLIGHT
TZOFFSETFROM:-0500
TZOFFSETTO:-0400
TZNAME:EDT
DTSTART:20190310T070000
END:DAYLIGHT
BEGIN:STANDARD
TZOFFSETFROM:-0400
TZOFFSETTO:-0500
TZNAME:EST
DTSTART:20191103T060000
END:STANDARD
END:VTIMEZONE
BEGIN:VEVENT
DTSTART;TZID=America/New_York:20190525T173000
DTEND;TZID=America/New_York:20190525T173000
DTSTAMP:20260419T231230
CREATED:20190502T190650Z
LAST-MODIFIED:20190502T191525Z
UID:281749-1558805400-1558805400@www.gematsu.com
SUMMARY:MomoCon 2019: Travis Talks Again with Suda 51
DESCRIPTION:Goichi “Suda 51” Suda will host a panel titled “Travis Talks Again with Suda 51” at MomoCon 2019 in Atlanta on May 25 at 2:30 p.m. PT / 5:30 p.m. ET. \nThe panel will be live streamed on Twitch. \nFollowing his Killer7 for Steam announcement at MomoCon 2018\, Suda will make “another announcement” at MomoCon 2019.
URL:https://www.gematsu.com/event/momocon-2019-travis-talks-again-with-suda-51
END:VEVENT
END:VCALENDAR