BEGIN:VCALENDAR
VERSION:2.0
PRODID:-//Gematsu - ECPv5.16.4//NONSGML v1.0//EN
CALSCALE:GREGORIAN
METHOD:PUBLISH
X-WR-CALNAME:Gematsu
X-ORIGINAL-URL:https://www.gematsu.com
X-WR-CALDESC:Events for Gematsu
BEGIN:VTIMEZONE
TZID:America/New_York
BEGIN:DAYLIGHT
TZOFFSETFROM:-0500
TZOFFSETTO:-0400
TZNAME:EDT
DTSTART:20230312T070000
END:DAYLIGHT
BEGIN:STANDARD
TZOFFSETFROM:-0400
TZOFFSETTO:-0500
TZNAME:EST
DTSTART:20231105T060000
END:STANDARD
END:VTIMEZONE
BEGIN:VEVENT
DTSTART;TZID=America/New_York:20230429T213000
DTEND;TZID=America/New_York:20230430T033000
DTSTAMP:20260419T093306
CREATED:20230111T044725Z
LAST-MODIFIED:20230426T192607Z
UID:785743-1682803800-1682825400@www.gematsu.com
SUMMARY:Indie Games Connect 2023
DESCRIPTION:Konami will hold independent games exhibition Indie Games Connect 2023 at Konami Creative Center Ginza in Tokyo on April 30 from 10:30 to 16:30 JST. \nIndie Games Connect 2023 will offer a space for creators to connect with each other and users. To enable as many connections as possible\, there will be no fee for exhibition or general admission. \nExhibiting Titles \nFind the full list of exhibiting titles here. \n\nExhibition Area\nghostpia Season One (Switch\, PC) – ChosuidoIncline: Railway of Devil’s Valley (PC) – GudouanKwaidan: Azuma Manor Story (PS4\, Switch\, PC) – GudouanMISTROGUE: Mist and the Living Dungeons (PC) – PolyscapeMonster Fishing (iOS\, Android) – MetaslaRustil: Eternal Labyrinth Castle (PC) – Shinden Gamessleep -h now (Browser) – haguruma.stadioSoul Dog TD (PC) – Libragames\nDDD\nSponsors \nPlatinum Supporters\nGame Creators GuildKodansha Game Creators LabUnity TechnologiesXsolla\nGold Supporters\nGoogle Cloud\nSilver Supporters\nesports GINZA studioMr. GAMEHITShueisha Game Creators Camp
URL:https://www.gematsu.com/event/indie-games-connect-2023
ATTACH;FMTTYPE=image/jpeg:https://www.gematsu.com/wp-content/uploads/2023/01/Event_IGC-2023_04-30-23.jpg
END:VEVENT
END:VCALENDAR