BEGIN:VCALENDAR
VERSION:2.0
PRODID:-//Gematsu - ECPv5.16.4//NONSGML v1.0//EN
CALSCALE:GREGORIAN
METHOD:PUBLISH
X-WR-CALNAME:Gematsu
X-ORIGINAL-URL:https://www.gematsu.com
X-WR-CALDESC:Events for Gematsu
BEGIN:VTIMEZONE
TZID:America/New_York
BEGIN:DAYLIGHT
TZOFFSETFROM:-0500
TZOFFSETTO:-0400
TZNAME:EDT
DTSTART:20220313T070000
END:DAYLIGHT
BEGIN:STANDARD
TZOFFSETFROM:-0400
TZOFFSETTO:-0500
TZNAME:EST
DTSTART:20221106T060000
END:STANDARD
END:VTIMEZONE
BEGIN:VEVENT
DTSTART;TZID=America/New_York:20220113T090000
DTEND;TZID=America/New_York:20220113T091500
DTSTAMP:20260422T064849
CREATED:20220111T162733Z
LAST-MODIFIED:20220111T162733Z
UID:715094-1642064400-1642065300@www.gematsu.com
SUMMARY:HITMAN III Year Two Reveal Stream
DESCRIPTION:IO Interactive will host the HITMAN III Year Two Reveal Stream on January 13\, 2022 at 6:00 a.m. PT / 9:00 a.m. ET. You will be able to watch it on YouTube. \nThe 15-minute broadcast will reveal the second year of post-launch content for HITMAN III\, including Elusive Target Arcade\, PC virtual reality\, the reveal of a brand new game mode\, plus other announcements\, surprises\, and new footage.
URL:https://www.gematsu.com/event/hitman-iii-year-two-reveal-stream
ATTACH;FMTTYPE=image/jpeg:https://www.gematsu.com/wp-content/uploads/2022/01/Event_Hitman-3_01-13-22.jpg
END:VEVENT
END:VCALENDAR