BEGIN:VCALENDAR
VERSION:2.0
PRODID:-//Gematsu - ECPv5.16.4//NONSGML v1.0//EN
CALSCALE:GREGORIAN
METHOD:PUBLISH
X-WR-CALNAME:Gematsu
X-ORIGINAL-URL:https://www.gematsu.com
X-WR-CALDESC:Events for Gematsu
BEGIN:VTIMEZONE
TZID:America/New_York
BEGIN:DAYLIGHT
TZOFFSETFROM:-0500
TZOFFSETTO:-0400
TZNAME:EDT
DTSTART:20250309T070000
END:DAYLIGHT
BEGIN:STANDARD
TZOFFSETFROM:-0400
TZOFFSETTO:-0500
TZNAME:EST
DTSTART:20251102T060000
END:STANDARD
END:VTIMEZONE
BEGIN:VEVENT
DTSTART;TZID=America/New_York:20251024T120000
DTEND;TZID=America/New_York:20251026T220000
DTSTAMP:20260424T104706
CREATED:20251021T174246Z
LAST-MODIFIED:20251024T040058Z
UID:1001153-1761307200-1761516000@www.gematsu.com
SUMMARY:Halo World Championship 2025
DESCRIPTION:Halo World Championship 2025 will run from October 24 to 26 at Seattle Convention Center in Seattle\, Washington. You will be able to watch it on YouTube and Twitch. \nFor viewers at home\, the Community Stage will feature both returning and new panels with the developers. \nGet the full schedule below. \n(All times are Pacific Time.) \nOctober 24 \nEvent Stage (YouTube [A\, B\, C\, D])\n9:00 a.m. – Doors Open (Pro Players)10:00 a.m. – Doors Open (VIP)10:05 a.m. – VIP Production Tour (one hour)11:00 a.m.\nDoors Open (GA) (doors close at 10:00 p.m.)Halo Infinite Two-Versus-Two Sign-Ups (ends at 12:00 p.m.)\n12:00 p.m.\nPool Play StartsCommunity Stage Programming StartsHalo Infinite Two-Versus-Two Starts\n1:00 p.m. – Halo Studios Project Update1:15 p.m. – Halo 5: Guardians Two-Versus-Two Sign-Ups (ends at 2:15 p.m.)2:15 p.m. – Halo Infinite S&D Four-Versus-Four Sign-Ups (ends at 3:15 p.m.)2:30 p.m. – Halo 5: Guardians Two-Versus-Two Starts3:30 p.m. – Halo Infinite S&D Four-Versus-Four Starts6:00 p.m. – Halo Championship Series “2025 Season MPV” Presentation\nCommunity Stage (YouTube)\n12:00 p.m. – Community Playdate – Members of the HaloWC audience join Halo Studios’ Unyshek and Ron to play Halo Infinite and earn the coveted Unicorn of Ice rewards.2:00 p.m. – Halo Studios Project Deep Dive – Learn more about Halo Studios’ latest project with members of the development team.3:00 p.m. – Halo Cosplay Contest: Heat 1 – Halo cosplayers showcase their incredible creations in the first heat of the $5\,000 Halo Cosplay Contest.4:00 p.m. – Halo 5: Guardians 10-years Later: Developer Panel – In commemoration of its 10th anniversary\, members of the original dev team share stories and insights behind the development of Halo 5: Guardians.5:00 p.m. – Steve and Jen: Scene Reading – Audience members have the opportunity to join Steve and Jen as fan-favorite scenes\, including a new scene from Halo: Edge of Dawn\, are performed live.6:00 p.m. – Halo Maker’s Contest Showcase – Community members showcase hand-crafted props that have been entered into the $2\,500 Halo Maker’s Contest.7:00 p.m. – Steve and Jen: Madlibs – HaloWC audience members help fill in the blanks of iconic Halo quotes\, which are then read in-character by Steve Downes and Jen Taylor.\n\nOctober 25 \nEvent Stage\n9:00 a.m. – Doors Open (Pro Players)10:00 a.m.\nDoors Open (All) (doors close at 10:00 p.m.)Halo Infinite FFA (VIP) Sign-Ups (ends at 11:45 a.m.)\n10:30 a.m. – Halo Infinite FFA Sign-Ups (ends at 11:45 a.m.)12:00 p.m.\nChampionship Bracket StartsCommunity Stage Programming StartsHalo Infinite FFA Starts\n1:30 p.m. – Halo Infinite “Title MVP” Presentation2:30 p.m. – Halo 2 Four-Versus-Four Sign-Ups (ends at 3:30 p.m.)3:45 p.m. – Halo 2 Four-Versus-Four Starts4:00 p.m.\nHalo 3 Two-Versus-Two Sign-Ups (ends at 5:00 p.m.)Halo Esports Check-In\n5:15 p.m. – Halo 3 Two-Versus-Two Starts6:00 p.m. – Halo Cosplay Contest Finals7:30 p.m. – BTB Bonanza IV (Showmatch)\nCommunity Stage (YouTube)\n12:00 p.m. – Community Playdate – Members of the HaloWC audience join Halo Studios’ Unyshek and Ron to play Halo Infinite and earn the coveted Unicorn of Ice rewards.2:00 p.m. – Steve and Jen: Fireside Chat – Legendary voice actors sit down with members of the studio to discuss their journey with the Halo franchise.3:00 p.m. – Halo Cosplay Contest: Heat 2 – Halo cosplayers showcase their incredible creations in the second heat of the $5\,000 Halo Cosplay Contest.4:00 p.m. – Steve and Jen: Fireteam Feud – Team Chief and Team Cortana. Legendary voice actors will be joined by audience members for the ultimate game show competition.5:00 p.m. – Remembering Reach: Developer Panel – In commemoration of its 15th anniversary\, members of the original dev team share stories and insights behind the development of Halo: Reach.6:00 p.m. – Canon Fodder Live – Dive into Halo‘s lore and storytelling with a new edition of Canon Fodder Live\, featuring fun fiction discussion and a preview of the next novel\, Halo: Edge of Dawn.7:00 p.m. – Steve and Jen: Townhall Q&A – Halo‘s legendary voice actors answer YOUR questions live!\n\nOctober 26 \nEvent Stage\n9:00 a.m. – Doors Open (Pro Players)10:30 a.m. – Doors Open (All) (doors close at 8:00 p.m.)10:50 a.m. – 2025 Event Commendations10:55 a.m. – $25k Ffa Winner Trophy Presentation11:00 a.m.\nElimination Semi-final (Best of Seven)Free Play Starts (ends at 5:00 p.m.)\n1:00 p.m. – Winners Final (Best of Seven)3:00 p.m. – Elimination Final (Best of Seven)5:00 p.m. – The Grand Finale (Best of Seven)
URL:https://www.gematsu.com/event/halo-world-championship-2025
ATTACH;FMTTYPE=image/jpeg:https://www.gematsu.com/wp-content/uploads/2025/10/Event_Halo_10-24-25.jpg
END:VEVENT
END:VCALENDAR