BEGIN:VCALENDAR
VERSION:2.0
PRODID:-//Gematsu - ECPv5.16.4//NONSGML v1.0//EN
CALSCALE:GREGORIAN
METHOD:PUBLISH
X-WR-CALNAME:Gematsu
X-ORIGINAL-URL:https://www.gematsu.com
X-WR-CALDESC:Events for Gematsu
BEGIN:VTIMEZONE
TZID:America/New_York
BEGIN:DAYLIGHT
TZOFFSETFROM:-0500
TZOFFSETTO:-0400
TZNAME:EDT
DTSTART:20230312T070000
END:DAYLIGHT
BEGIN:STANDARD
TZOFFSETFROM:-0400
TZOFFSETTO:-0500
TZNAME:EST
DTSTART:20231105T060000
END:STANDARD
END:VTIMEZONE
BEGIN:VEVENT
DTSTART;TZID=America/New_York:20230607T120000
DTEND;TZID=America/New_York:20230607T140000
DTSTAMP:20260421T115146
CREATED:20230508T174305Z
LAST-MODIFIED:20230607T155557Z
UID:807535-1686139200-1686146400@www.gematsu.com
SUMMARY:Guerrilla Collective 2023
DESCRIPTION:The Guerrilla Collective 2023 showcase will air on June 7 at 9:00 a.m. PT / 12:00 p.m. ET. You will be able to watch it on YouTube and Twitch. \nThe showcase will feature new announcements\, trailers\, gameplay\, a Steam event page for wishlisting\, demos\, game ordering\, and more.
URL:https://www.gematsu.com/event/guerrilla-collective-2023
ATTACH;FMTTYPE=image/jpeg:https://www.gematsu.com/wp-content/uploads/2023/05/Event_Guerrilla-Collective-2023-Init_06-07-23.jpg
END:VEVENT
END:VCALENDAR