BEGIN:VCALENDAR
VERSION:2.0
PRODID:-//Gematsu - ECPv5.16.4//NONSGML v1.0//EN
CALSCALE:GREGORIAN
METHOD:PUBLISH
X-WR-CALNAME:Gematsu
X-ORIGINAL-URL:https://www.gematsu.com
X-WR-CALDESC:Events for Gematsu
BEGIN:VTIMEZONE
TZID:America/New_York
BEGIN:DAYLIGHT
TZOFFSETFROM:-0500
TZOFFSETTO:-0400
TZNAME:EDT
DTSTART:20240310T070000
END:DAYLIGHT
BEGIN:STANDARD
TZOFFSETFROM:-0400
TZOFFSETTO:-0500
TZNAME:EST
DTSTART:20241103T060000
END:STANDARD
END:VTIMEZONE
BEGIN:VEVENT
DTSTART;TZID=America/New_York:20240425T060000
DTEND;TZID=America/New_York:20240425T072000
DTSTAMP:20260422T110610
CREATED:20240311T035844Z
LAST-MODIFIED:20240425T022751Z
UID:868491-1714024800-1714029600@www.gematsu.com
SUMMARY:Granblue Fantasy Showcase Part 3 - Granblue Fantasy: Relink
DESCRIPTION:Cygames will host the “Granblue Fantasy Showcase Part 3 – Granblue Fantasy: Relink” live stream on April 25 at 3:00 a.m. PT / 6:00 a.m. ET / 19:00 JST. You will be able to watch it on YouTube. \nThe broadcast will feature a look at the Granblue Fantasy: Relink version 1.2.0 update\, including new playable characters Seofon and Tweyen\, and more announcements.
URL:https://www.gematsu.com/event/granblue-fantasy-showcase-part-3-granblue-fantasy-relink
ATTACH;FMTTYPE=image/jpeg:https://www.gematsu.com/wp-content/uploads/2024/03/Event_Granblue-Relink_04-25-24.jpg
END:VEVENT
END:VCALENDAR