BEGIN:VCALENDAR
VERSION:2.0
PRODID:-//Gematsu - ECPv5.16.4//NONSGML v1.0//EN
CALSCALE:GREGORIAN
METHOD:PUBLISH
X-WR-CALNAME:Gematsu
X-ORIGINAL-URL:https://www.gematsu.com
X-WR-CALDESC:Events for Gematsu
BEGIN:VTIMEZONE
TZID:America/New_York
BEGIN:DAYLIGHT
TZOFFSETFROM:-0500
TZOFFSETTO:-0400
TZNAME:EDT
DTSTART:20220313T070000
END:DAYLIGHT
BEGIN:STANDARD
TZOFFSETFROM:-0400
TZOFFSETTO:-0500
TZNAME:EST
DTSTART:20221106T060000
END:STANDARD
END:VTIMEZONE
BEGIN:VEVENT
DTSTART;TZID=America/New_York:20220203T170000
DTEND;TZID=America/New_York:20220203T172000
DTSTAMP:20260419T083258
CREATED:20220202T185318Z
LAST-MODIFIED:20220202T185318Z
UID:718624-1643907600-1643908800@www.gematsu.com
SUMMARY:Ghostwire: Tokyo - February 2022 Official Showcase
DESCRIPTION:Publisher Bethesda Softworks and developer Tango Gameworks will host the “Ghostwire: Tokyo – February 2022 Official Showcase” on February 3 at 2:00 p.m. PT / 5:00 p.m. PT. You will be able to watch it on YouTube and Twitch.
URL:https://www.gematsu.com/event/ghostwire-tokyo-february-2022-official-showcase
ATTACH;FMTTYPE=image/jpeg:https://www.gematsu.com/wp-content/uploads/2022/02/Event_Ghostwire-Inits_02-03-22.jpg
END:VEVENT
END:VCALENDAR