BEGIN:VCALENDAR
VERSION:2.0
PRODID:-//Gematsu - ECPv5.16.4//NONSGML v1.0//EN
CALSCALE:GREGORIAN
METHOD:PUBLISH
X-WR-CALNAME:Gematsu
X-ORIGINAL-URL:https://www.gematsu.com
X-WR-CALDESC:Events for Gematsu
BEGIN:VTIMEZONE
TZID:America/New_York
BEGIN:DAYLIGHT
TZOFFSETFROM:-0500
TZOFFSETTO:-0400
TZNAME:EDT
DTSTART:20240310T070000
END:DAYLIGHT
BEGIN:STANDARD
TZOFFSETFROM:-0400
TZOFFSETTO:-0500
TZNAME:EST
DTSTART:20241103T060000
END:STANDARD
END:VTIMEZONE
BEGIN:VEVENT
DTSTART;TZID=America/New_York:20240927T080000
DTEND;TZID=America/New_York:20240927T090000
DTSTAMP:20260420T072124
CREATED:20240925T041207Z
LAST-MODIFIED:20240925T041207Z
UID:917187-1727424000-1727427600@www.gematsu.com
SUMMARY:Genshin Impact Version 5.1 Update Special Program
DESCRIPTION:miHoYo will host the Genshin Impact Version 5.1 Update Special Program on September 27 at 5:00 a.m. PT / 8:00 a.m. ET. You will be able to watch it on Twitch (English)\, YouTube (English\, Japanese\, Korean)\, and Bilibili (Chinese). \nThis special program will feature the latest information about new game content and developments in Version 5.1\, as well as “drop” some redemption codes and other bonuses.
URL:https://www.gematsu.com/event/genshin-impact-version-5-1-update-special-program
ATTACH;FMTTYPE=image/jpeg:https://www.gematsu.com/wp-content/uploads/2024/09/Event_Genshin_09-27-24.jpg
END:VEVENT
END:VCALENDAR