BEGIN:VCALENDAR
VERSION:2.0
PRODID:-//Gematsu - ECPv5.16.4//NONSGML v1.0//EN
CALSCALE:GREGORIAN
METHOD:PUBLISH
X-WR-CALNAME:Gematsu
X-ORIGINAL-URL:https://www.gematsu.com
X-WR-CALDESC:Events for Gematsu
BEGIN:VTIMEZONE
TZID:America/New_York
BEGIN:DAYLIGHT
TZOFFSETFROM:-0500
TZOFFSETTO:-0400
TZNAME:EDT
DTSTART:20240310T070000
END:DAYLIGHT
BEGIN:STANDARD
TZOFFSETFROM:-0400
TZOFFSETTO:-0500
TZNAME:EST
DTSTART:20241103T060000
END:STANDARD
END:VTIMEZONE
BEGIN:VEVENT
DTSTART;TZID=America/New_York:20240412T080000
DTEND;TZID=America/New_York:20240412T090000
DTSTAMP:20260424T155611
CREATED:20240410T040357Z
LAST-MODIFIED:20240410T040357Z
UID:875135-1712908800-1712912400@www.gematsu.com
SUMMARY:Genshin Impact Version 4.6 Update Special Program
DESCRIPTION:miHoYo will host the Genshin Impact Version 4.6 Update Special Program on April 12 at 5:00 a.m. PT / 8:00 a.m. ET. You will be able to watch it on Twitch (English)\, YouTube (English\, Japanese\, Korean)\, and Bilibili (Chinese).
URL:https://www.gematsu.com/event/genshin-impact-version-4-6-update-special-program
ATTACH;FMTTYPE=image/jpeg:https://www.gematsu.com/wp-content/uploads/2024/04/Event_Genshin-46_04-12-24.jpg
END:VEVENT
END:VCALENDAR