BEGIN:VCALENDAR
VERSION:2.0
PRODID:-//Gematsu - ECPv5.16.4//NONSGML v1.0//EN
CALSCALE:GREGORIAN
METHOD:PUBLISH
X-WR-CALNAME:Gematsu
X-ORIGINAL-URL:https://www.gematsu.com
X-WR-CALDESC:Events for Gematsu
BEGIN:VTIMEZONE
TZID:America/New_York
BEGIN:DAYLIGHT
TZOFFSETFROM:-0500
TZOFFSETTO:-0400
TZNAME:EDT
DTSTART:20250309T070000
END:DAYLIGHT
BEGIN:STANDARD
TZOFFSETFROM:-0400
TZOFFSETTO:-0500
TZNAME:EST
DTSTART:20251102T060000
END:STANDARD
END:VTIMEZONE
BEGIN:VEVENT
DTSTART;TZID=America/New_York:20250829T075100
DTEND;TZID=America/New_York:20250829T093500
DTSTAMP:20260423T230916
CREATED:20250827T041619Z
LAST-MODIFIED:20251008T040458Z
UID:988444-1756453860-1756460100@www.gematsu.com
SUMMARY:Genshin Impact Luna I "Song of the Welkin Moon: Segue" Version Update Special Program
DESCRIPTION:miHoYo will host the Genshin Impact Luna I “Song of the Welkin Moon: Segue” Version Update Special Program on August 29 at 5:00 a.m. PT / 8:00 a.m. ET. You will be able to watch it on Twitch (English)\, YouTube (English\, Japanese\, Korean)\, and Bilibili (Chinese). \nThe special program will feature the latest information about new game content and developments in the “Song of the Welkin Moon” version\, as well as “drop” some redemption codes and other bonuses. The program will consist of a main segment featuring the development team\, and a special segment with guest appearances that begins nine minutes before the main segment.
URL:https://www.gematsu.com/event/genshin-impact-luna-i-song-of-the-welkin-moon-segue-version-update-special-program
ATTACH;FMTTYPE=image/jpeg:https://www.gematsu.com/wp-content/uploads/2025/08/Event_Genshin-Impact_08-29-25.jpg
END:VEVENT
END:VCALENDAR