BEGIN:VCALENDAR
VERSION:2.0
PRODID:-//Gematsu - ECPv5.16.4//NONSGML v1.0//EN
CALSCALE:GREGORIAN
METHOD:PUBLISH
X-WR-CALNAME:Gematsu
X-ORIGINAL-URL:https://www.gematsu.com
X-WR-CALDESC:Events for Gematsu
BEGIN:VTIMEZONE
TZID:America/New_York
BEGIN:DAYLIGHT
TZOFFSETFROM:-0500
TZOFFSETTO:-0400
TZNAME:EDT
DTSTART:20250309T070000
END:DAYLIGHT
BEGIN:STANDARD
TZOFFSETFROM:-0400
TZOFFSETTO:-0500
TZNAME:EST
DTSTART:20251102T060000
END:STANDARD
END:VTIMEZONE
BEGIN:VEVENT
DTSTART;TZID=America/New_York:20250502T130000
DTEND;TZID=America/New_York:20250502T140000
DTSTAMP:20260419T192322
CREATED:20250501T171414Z
LAST-MODIFIED:20250502T160758Z
UID:962604-1746190800-1746194400@www.gematsu.com
SUMMARY:Future Games Show: Gamescom LATAM 2025
DESCRIPTION:Future Media will host Future Games Show: Gamescom LATAM 2025 on May 2 at 10:00 a.m. PT / 1:00 p.m. ET. You will be able to watch it on YouTube\, Twitch\, Facebook\, Twitter\, TikTok\, and GamesRadar. \nThe broadcast will feature world premieres\, exclusive trailers\, and developer interviews from over 20 titles\, including: \nThe Alters (11 bit studios)Assetto Corsa EVO (505 Games / Kunos Simulazioni)Blades of Fire (505 Games / MercurySteam) – New TrailerBreathedge 2 (HypeTrain Digital / RedRuins Softworks)DREADZONE (Eshed)Football Heroes League (Run Games)Kulebra and the Souls of Limbo (Fellow Traveller / Galla)Little Mage (Violoken)The Midnight Walk (Fast Travel Games / MoonHood) – New Gameplay / InterviewMOUSE: P.I. for Hire (PlaySide Publishing / Fumi Games)Recharge (Room Games) – Exciting NewsREMATCH (Kepler Interactive / Sloclap)Revenge of the Savage Planet (Raccoon Logic) – Final Message Before LaunchSacriFire (Pixelated Milk)The Shadow Syndicate (KillaSoft)Truckful (MythicOwl) – New Gameplay RevealVoid Martyrs (Mac n Cheese Games)WUCHANG: Fallen Feathers (505 Games / Leenzee Games) – New Trailer
URL:https://www.gematsu.com/event/future-games-show-gamescom-latam-2025
ATTACH;FMTTYPE=image/jpeg:https://www.gematsu.com/wp-content/uploads/2025/05/Event_FGS-Live-Gamescom-Latam_05-02-25.jpg
END:VEVENT
END:VCALENDAR