BEGIN:VCALENDAR
VERSION:2.0
PRODID:-//Gematsu - ECPv5.16.4//NONSGML v1.0//EN
CALSCALE:GREGORIAN
METHOD:PUBLISH
X-WR-CALNAME:Gematsu
X-ORIGINAL-URL:https://www.gematsu.com
X-WR-CALDESC:Events for Gematsu
BEGIN:VTIMEZONE
TZID:America/New_York
BEGIN:DAYLIGHT
TZOFFSETFROM:-0500
TZOFFSETTO:-0400
TZNAME:EDT
DTSTART:20190310T070000
END:DAYLIGHT
BEGIN:STANDARD
TZOFFSETFROM:-0400
TZOFFSETTO:-0500
TZNAME:EST
DTSTART:20191103T060000
END:STANDARD
END:VTIMEZONE
BEGIN:VEVENT
DTSTART;VALUE=DATE:20190802
DTEND;VALUE=DATE:20190805
DTSTAMP:20260419T224601
CREATED:20190721T005414Z
LAST-MODIFIED:20190827T010635Z
UID:289009-1564704000-1564963199@www.gematsu.com
SUMMARY:EVO 2019 / AnimEVO 2019
DESCRIPTION:EVO 2019 will run from August 2 to 4 at the Mandalay Bay Hotel and Casino in Las Vegas. \nThe annual esports event\, which is dedicated exclusively to fighting games\, will be live streamed via the EVO organization’s Twitch channels. \nHere are the tournament schedules: \n(All listed times are Pacific Daylight Time.) \nEvo 2019 Schedule\nAugust 2 \n10:00 a.m.\nThe Jump Off (Twitch #1\, #2)BlazBlue: Cross Tag Battle Round 1 Pools (Twitch)Dragon Ball FighterZ Round 1 Pools (Twitch)Samurai Shodown Round 1 Pools (Twitch)Soulcalibur VI Round 1 Pools (Twitch)Street Fighter V: Arcade Edition Round 1 Pools (Twitch)Super Smash Bros. Ultimate Round 1 Pools (Twitch)Tekken 7 Round 1 Pools (Twitch)Under Night In-Birth Exe:Late[st] Round 1 Pools (Twitch)\n12:00 p.m.\nThe Jump Off (Twitch #1\, #2)BlazBlue: Cross Tag Battle Round 1 Pools (Twitch)Dragon Ball FighterZ Round 1 Pools (Twitch)Samurai Shodown Round 1 Pools (Twitch)Soulcalibur VI Round 1 Pools (Twitch)Street Fighter V: Arcade Edition Round 1 Pools (Twitch)Super Smash Bros. Ultimate Round 1 Pools (Twitch)Tekken 7 Round 1 Pools (Twitch)Under Night In-Birth Exe:Late[st] Round 1 Pools (Twitch)\n2:00 p.m.\nThe Jump Off (Twitch #1\, #2)Dragon Ball FighterZ Round 1 Pools (Twitch)Mortal Kombat 11 Round 1 Pools (Twitch)Samurai Shodown Round 1 Pools (Twitch)Soulcalibur VI Round 1 Pools (Twitch)Street Fighter V: Arcade Edition Round 1 Pools (Twitch)Super Smash Bros. Ultimate Round 1 Pools (Twitch)Tekken 7 Round 1 Pools (Twitch)Under Night In-Birth Exe:Late[st] Round 1 Pools (Twitch)\n4:00 p.m.\nThe Jump Off (Twitch #1\, #2)Dragon Ball FighterZ Round 1 Pools (Twitch)Mortal Kombat 11 Round 1 Pools (Twitch)Samurai Shodown Round 1 Pools (Twitch)Soulcalibur VI Quarter Finals (Twitch)Street Fighter V: Arcade Edition Round 1 Pools (Twitch)Super Smash Bros. Ultimate Round 1 Pools (Twitch)Tekken 7 Round 1 Pools (Twitch)Under Night In-Birth Exe:Late[st] Round 1 Pools (Twitch)\n6:00 p.m.\nThe Jump Off (Twitch #1\, #2)Dragon Ball FighterZ Round 1 Pools (Twitch)Mortal Kombat 11 Round 1 Pools (Twitch)Samurai Shodown Round 1 Pools (Twitch)Soulcalibur VI Semi-Finals (Twitch)Street Fighter V: Arcade Edition Round 1 Pools (Twitch)Super Smash Bros. Ultimate Round 1 Pools (Twitch)Tekken 7 Round 1 Pools (Twitch)Under Night In-Birth Exe:Late[st] Quarter Finals (Twitch)\n8:00 p.m.\nThe Jump Off (Twitch)BlazBlue: Chrono Phantasma Top 4 (Twitch)Dragon Ball FighterZ Quarter Finals (Twitch)Mortal Kombat 11 Round 1 Pools (Twitch)Samurai Shodown Round 2 Pools (Twitch)Soulcalibur VI Top 8 (Twitch)Street Fighter V: Arcade Edition Round 1 Pools (Twitch)Super Smash Bros. Ultimate Round 1 Pools (Twitch)Tekken 7 Round 1 Pools (Twitch)Under Night In-Birth Exe:Late[st] Semi-Finals (Twitch)\n\nAugust 3 \n10:00 a.m.\nThe Jump Off (Twitch)BlazBlue: Cross Tag Battle Round 1 Pools (Twitch)Dragon Ball FighterZ Semi-Finals (Twitch)Kill la Kill: IF Top 4 (Twitch)Mortal Kombat 11 Round 1 Pools (Twitch)Samurai Shodown Round 2 Pools (Twitch)Street Fighter V: Arcade Edition Round 1 Pools (Twitch)Super Smash Bros. Ultimate Round 1 Pools (Twitch)Tekken 7 Round 1 Pools (Twitch)Under Night In-Birth Exe:Late[st] Top 8 (Twitch)\n12:00 p.m.\nThe Jump Off (Twitch)BlazBlue: Cross Tag Battle Quarter Finals (Twitch)Mortal Kombat 11 Round 2 Pools (Twitch)Samurai Shodown Quarter Finals (Twitch)Street Fighter V: Arcade Edition Round 1 Pools (Twitch)Super Smash Bros. Ultimate Round 1 Pools (Twitch)Tekken 7 Round 2 Pools (Twitch)Vampire Savior Top 4 (Twitch)\n1:00 p.m.\nDragon Ball FighterZ Top 8 (Twitch)\n2:00 p.m.\nThe Jump Off (Twitch)BlazBlue: Cross Tag Battle Quarter Finals (Twitch)Garou: Mark of the Wolves Top 4 (Twitch)Mortal Kombat 11 Round 2 Pools (Twitch)Samurai Shodown Semi-Finals (Twitch)Street Fighter V: Arcade Edition Round 2 Pools (Twitch)Super Smash Bros. Ultimate Round 2 Pools (Twitch)Tekken 7 Round 2 Pools (Twitch)\n4:00 p.m.\nThe Jump Off (Twitch)BlazBlue: Cross Tag Battle Semi-Finals (Twitch)Mortal Kombat 11 Quarter Finals (Twitch)Sailor Moon S Top 4 (Twitch)Samurai Shodown Top 8 (Twitch)Street Fighter V: Arcade Edition Round 2 Pools (Twitch)Super Smash Bros. Melee Top 4 (Twitch)Super Smash Bros. Ultimate Round 2 Pools (Twitch)Super Street Fighter II Turbo Top 4 (Twitch)Tekken 7 Quarter Finals (Twitch)\n6:00 p.m.\nThe Jump Off (Twitch)Guilty Gear Xrd: Rev 2 Top 4 (Twitch)Million Arthur: Arcana Blood Top 4 (Twitch)Mortal Kombat 11 Semi-Finals (Twitch)Street Fighter V: Arcade Edition Quarter Finals (Twitch)Super Smash Bros. Ultimate Quarter Finals (Twitch)Tekken 7 Semi-Finals (Twitch)Ultimate Marvel vs. Capcom 3 Top 4 (Twitch)Windjammers Top 4 (Twitch)\n8:00 p.m.\nMortal Kombat 11 Top 8 (Twitch)Street Fighter V: Arcade Edition Semi-Finals (Twitch)Super Smash Bros. Ultimate Semi-Finals (Twitch)\n\nAugust 4 \n8:00 a.m. – Doors Open9:00 a.m. – BlazBlue: Cross Tag Battle Top 8 (Twitch)12:00 p.m. – Street Fighter V: Arcade Edition Top 8 (Twitch)3:30 p.m. – Tekken 7 Top 8 (Twitch)7:00 p.m. – Super Smash Bros. Ultimate Top 8 (Twitch)\nAnimEVO 2019 Schedule\nAnimEVO is a series of side-events run by the collaboration of a group of volunteer tournament organizers during EVO. \nAugust 2 \n10:00 a.m.\nBlazBlue: Chrono Phantasma and Kill la Kill: IF (Twitch)Dengeki Bunko Fighting Climax: Ignition Pools (Twitch)\n11:00 a.m.\nOpening Remarks (Twitch)Arcana Heart 3 LOVEMAX SIXSTARS!!!!!! Pools (Twitch)\n12:00 p.m.\n12:00 p.m. BlazBlue: Central Fiction Pools (Twitch)Garou: Mark of the Wolves Pools (Twitch)Puyo Puyo Champions Pools (Twitch)Sailor Moon S Pools (Twitch)\n1:00 p.m.\nAquapazza Top 8 (Twitch)\n4:00 p.m.\nBlazBlue: Central Fiction Top 24 to Top 4 (Twitch)Dengeki Bunko Fighting Climax: Ignition Top 12 (Twitch)Garou: Mark of the Wolves Top 8 to Top 4 (Twitch)Hokuto no Ken Pools (Twitch)Puyo Puyo Champions Top 8 (Twitch)Vampire Savior Pools (Twitch)\n5:00 p.m.\nGranblue Fantasy: Versus Cygames Beast Exhibition (Twitch)\n6:00 p.m.\nCatherine Tournament (Twitch)Fighters History Dynamite Pools (Twitch)Kill la Kill: IF Top 12 to Top 4 (Twitch)Koihime Enbu: RyoRaiRai Pools (Twitch)\n8:00 p.m.\nBlazBlue: Central Fiction Top 4 (Twitch)Fighters History Dynamite Top 8 (Twitch)Hokuto no Ken Top 8 (Twitch)\n\nAugust 3 \n8:00 a.m.\nUltra Fight Da ! Kyanta 2 Top 8 (Twitch)\n9:00 a.m.\nWindjammers Pools (Twitch)\n10:00 a.m.\nOpening Remarks (Twitch)Guilty Gear XX Accent Core Plus R Pools (Twitch)Kill la Kill: IF Top 4 (Twitch)Puyo Puyo Tetris Swap Mode Pools (Twitch)Teenage Mutant Ninja Turtles: Tournament Fighters Pools (Twitch)Umineko: Golden Fantasia Tournament (Twitch)\n11:00 a.m.\nGuilty Gear Xrd: Rev 2 Pools (Twitch)Project Justice Pools (Twitch)\n12:00 p.m.\nCatherine: Full Body Tournament (Twitch)Guilty Gear Xrd: Rev 2 Top 32 to Top 4 (Twitch)The King of Fighters XIV Pools (Twitch)Nitroplus Blasterz: Heroines Infinite Duel Pools (Twitch)Teenage Mutant Ninja Turtles: Tournament Fighters Top 4 (Twitch)Under Night In-Birth Exe:Late[st] Exhibitions (Twitch)Vampire Savior Top 4 (Twitch)\n1:00 p.m.\nProject Justice Top 4 (Twitch)Tatsunoko vs. Capcom: Ultimate All-Stars Tournament (Twitch)XSEED Games at Evo 2019 (Twitch)\n2:00 p.m.\nGarou: Mark of the Wolves Top 4 (Twitch)\n3:00 p.m.\nGuilty Gear XX Accent Core Plus R Top 12 to Top 4 (Twitch)Gundam Versus Tournament (Twitch)Puyo Puyo Tetris Swap Mode Pools (Twitch)Windjammers Top 32 to Top 4 (Twitch)\n4:00 p.m.\nNitroplus Blasterz: Heroines Infinite Duel Top 8 (Twitch)Sailor Moon S Top 4 (Twitch)Under Night In-Birth Exe:Late[st] Director Talk / ArcREVO Update (Twitch)\n5:00 p.m.\nGuilty Gear XX Accent Core Plus R Top 4 (Twitch)Persona 4 Arena Ultimax Pools (Twitch)Puyo Puyo Tetris Swap Mode Top 8 (Twitch)\n6:00 p.m.\nCasuals (Twitch)Guilty Gear Xrd: Rev 2 Top 4 (Twitch)Koihime Enbu: RyoRaiRai Top 8 (Twitch)Melty Blood: Actress Again: Current Code Exhibitions (Twitch)Million Arthur: Arcana Blood Top 4 (Twitch)Windjammers Top 4 (Twitch)\n7:00 p.m.\nClosing Remarks (Twitch)\n8:00 p.m.\nThe King of Fighters XIV Top 8 (Twitch)Pesona 4 Arena Ultimax Top 4 (Twitch)
URL:https://www.gematsu.com/event/evo-2019
LOCATION:Mandalay Bay Resort and Casino\, 3950 S Las Vegas Blvd\, Las Vegas\, NV\, 89119\, United States
ATTACH;FMTTYPE=image/jpeg:https://www.gematsu.com/wp-content/uploads/2019/07/Event_Evo-2019_08-02-19.jpg
END:VEVENT
END:VCALENDAR