BEGIN:VCALENDAR
VERSION:2.0
PRODID:-//Gematsu - ECPv5.16.4//NONSGML v1.0//EN
CALSCALE:GREGORIAN
METHOD:PUBLISH
X-WR-CALNAME:Gematsu
X-ORIGINAL-URL:https://www.gematsu.com
X-WR-CALDESC:Events for Gematsu
BEGIN:VTIMEZONE
TZID:America/New_York
BEGIN:DAYLIGHT
TZOFFSETFROM:-0500
TZOFFSETTO:-0400
TZNAME:EDT
DTSTART:20210314T070000
END:DAYLIGHT
BEGIN:STANDARD
TZOFFSETFROM:-0400
TZOFFSETTO:-0500
TZNAME:EST
DTSTART:20211107T060000
END:STANDARD
END:VTIMEZONE
BEGIN:VEVENT
DTSTART;TZID=America/New_York:20211012T110000
DTEND;TZID=America/New_York:20211012T111500
DTSTAMP:20260426T001830
CREATED:20211009T053501Z
LAST-MODIFIED:20220110T033024Z
UID:695960-1634036400-1634037300@www.gematsu.com
SUMMARY:eastasiasoft Fall Showcase 2021
DESCRIPTION:eastasiasoft will host the eastasiasoft Fall Showcase 2021 on October 12 at 8:00 a.m. PT / 11:00 a.m. ET. You will be able to watch it on YouTube. \nThe presentation will feature more titles than ever featured in a single eastasiasoft showcase before with over 15 minutes covering recently revealed projects and brand new announcements.
URL:https://www.gematsu.com/event/eastasiasoft-fall-showcase-2021
ATTACH;FMTTYPE=image/jpeg:https://www.gematsu.com/wp-content/uploads/2021/10/Event_eastasiasoft_10-12-21.jpg
END:VEVENT
END:VCALENDAR