BEGIN:VCALENDAR
VERSION:2.0
PRODID:-//Gematsu - ECPv5.16.4//NONSGML v1.0//EN
CALSCALE:GREGORIAN
METHOD:PUBLISH
X-WR-CALNAME:Gematsu
X-ORIGINAL-URL:https://www.gematsu.com
X-WR-CALDESC:Events for Gematsu
BEGIN:VTIMEZONE
TZID:America/New_York
BEGIN:DAYLIGHT
TZOFFSETFROM:-0500
TZOFFSETTO:-0400
TZNAME:EDT
DTSTART:20250309T070000
END:DAYLIGHT
BEGIN:STANDARD
TZOFFSETFROM:-0400
TZOFFSETTO:-0500
TZNAME:EST
DTSTART:20251102T060000
END:STANDARD
END:VTIMEZONE
BEGIN:VEVENT
DTSTART;TZID=America/New_York:20250922T100000
DTEND;TZID=America/New_York:20250922T101500
DTSTAMP:20260425T093230
CREATED:20250918T151914Z
LAST-MODIFIED:20250922T180314Z
UID:993615-1758535200-1758536100@www.gematsu.com
SUMMARY:eastasiasoft Fall 2025 Showcase
DESCRIPTION:eastasiasoft will host the eastasiasoft Fall 2025 Showcase on September 22 at 7:00 a.m. PT / 10:00 a.m. ET. You will be able to watch it on YouTube. \nThe broadcast will feature a look at 18 upcoming eastasiasoft projects across PlayStation 5\, Xbox Series\, PlayStation 4\, Xbox One\, Switch\, and PC planned for release in the months ahead.
URL:https://www.gematsu.com/event/eastasiasoft-fall-2025-showcase
ATTACH;FMTTYPE=image/jpeg:https://www.gematsu.com/wp-content/uploads/2025/09/Event_eastasiasoft_09-22-25.jpg
END:VEVENT
END:VCALENDAR