BEGIN:VCALENDAR
VERSION:2.0
PRODID:-//Gematsu - ECPv5.16.4//NONSGML v1.0//EN
CALSCALE:GREGORIAN
METHOD:PUBLISH
X-WR-CALNAME:Gematsu
X-ORIGINAL-URL:https://www.gematsu.com
X-WR-CALDESC:Events for Gematsu
BEGIN:VTIMEZONE
TZID:America/New_York
BEGIN:DAYLIGHT
TZOFFSETFROM:-0500
TZOFFSETTO:-0400
TZNAME:EDT
DTSTART:20200308T070000
END:DAYLIGHT
BEGIN:STANDARD
TZOFFSETFROM:-0400
TZOFFSETTO:-0500
TZNAME:EST
DTSTART:20201101T060000
END:STANDARD
END:VTIMEZONE
BEGIN:VEVENT
DTSTART;TZID=America/New_York:20200717T070000
DTEND;TZID=America/New_York:20200717T080000
DTSTAMP:20260419T080807
CREATED:20200706T142032Z
LAST-MODIFIED:20200717T031917Z
UID:323018-1594969200-1594972800@www.gematsu.com
SUMMARY:DigiNavi: Digimon News Navigation - July 17\, 2020
DESCRIPTION:Digimon Web will host a “DigiNavi: Digimon News Navigation” live stream on July 17 at 20:00 JST featuring the latest information on Digimon merchandise\, anime-related news\, and a “special announcement” at the end of the stream. You will be able to watch it on YouTube\, LINE\, Twitter\, and Niconico. \nPresenters include MC Yuki Iwai (of comedy duo Haraichi)\, Chiaki Matsuzawa\, guests Agumon (voice actor Chika Sakamoto) and Atsuhiro Tomioka (Digimon Adventure: anime series organizer)\, and support guest Kokoro (comedian).
URL:https://www.gematsu.com/event/diginavi-digimon-news-navigation-july-17-2020
ATTACH;FMTTYPE=image/jpeg:https://www.gematsu.com/wp-content/uploads/2020/07/Event_DigiNavi_07-17-20.jpg
END:VEVENT
END:VCALENDAR