BEGIN:VCALENDAR
VERSION:2.0
PRODID:-//Gematsu - ECPv5.16.4//NONSGML v1.0//EN
CALSCALE:GREGORIAN
METHOD:PUBLISH
X-WR-CALNAME:Gematsu
X-ORIGINAL-URL:https://www.gematsu.com
X-WR-CALDESC:Events for Gematsu
BEGIN:VTIMEZONE
TZID:America/New_York
BEGIN:DAYLIGHT
TZOFFSETFROM:-0500
TZOFFSETTO:-0400
TZNAME:EDT
DTSTART:20250309T070000
END:DAYLIGHT
BEGIN:STANDARD
TZOFFSETFROM:-0400
TZOFFSETTO:-0500
TZNAME:EST
DTSTART:20251102T060000
END:STANDARD
END:VTIMEZONE
BEGIN:VEVENT
DTSTART;TZID=America/New_York:20250626T070000
DTEND;TZID=America/New_York:20250626T071600
DTSTAMP:20260422T100453
CREATED:20250619T144130Z
LAST-MODIFIED:20251220T124943Z
UID:974911-1750921200-1750922160@www.gematsu.com
SUMMARY:Digimon Times Vol. 01
DESCRIPTION:Bandai will host the Digimon Times Vol. 01 broadcast on June 26 at 20:00 JST. You will be able to watch it on YouTube (English\, Japanese). \nThe broadcast will feature news on the video game Digimon Story: Time Stranger and anime Digimon Beatbreak\, as well as the latest information on Digimon toys and the card game\, and specifics surrounding Digimon Expo ’25 in September.
URL:https://www.gematsu.com/event/digimon-times-vol-01
ATTACH;FMTTYPE=image/jpeg:https://www.gematsu.com/wp-content/uploads/2025/06/Event_Digimon-Times_06-26-25.jpg
END:VEVENT
END:VCALENDAR