BEGIN:VCALENDAR
VERSION:2.0
PRODID:-//Gematsu - ECPv5.16.4//NONSGML v1.0//EN
CALSCALE:GREGORIAN
METHOD:PUBLISH
X-WR-CALNAME:Gematsu
X-ORIGINAL-URL:https://www.gematsu.com
X-WR-CALDESC:Events for Gematsu
BEGIN:VTIMEZONE
TZID:America/New_York
BEGIN:DAYLIGHT
TZOFFSETFROM:-0500
TZOFFSETTO:-0400
TZNAME:EDT
DTSTART:20230312T070000
END:DAYLIGHT
BEGIN:STANDARD
TZOFFSETFROM:-0400
TZOFFSETTO:-0500
TZNAME:EST
DTSTART:20231105T060000
END:STANDARD
END:VTIMEZONE
BEGIN:VEVENT
DTSTART;TZID=America/New_York:20231124T053000
DTEND;TZID=America/New_York:20231124T080000
DTSTAMP:20260421T042708
CREATED:20231024T131849Z
LAST-MODIFIED:20231124T140811Z
UID:843670-1700803800-1700812800@www.gematsu.com
SUMMARY:"Did You Know? Next Year is the 30th Anniversary of Aquaplus" Live Stream
DESCRIPTION:AQUAPLUS will host the “Did You Know? Next Year is the 30th Anniversary of Aquaplus” live stream on November 24 at 19:30 JST. You will be able to watch it on YouTube. \nThe broadcast will celebrate both Aquaplus\, which will reach its 30th anniversary in 2024\, and Utawarerumono: Lost Flag\, which will reach its fourth anniversary on November 26\, with the latest information and fun discussion featuring the voice cast behind some of Aquaplus’ most notable works. \nPresenters include: \nKentaro Tone (voice actor for Haku and Oshtor in the Utawarerumono series)Risa Taneda (voice actor for Kuon in the Utawarerumono series)Rikiya Koyama (voice actor for Hakuowlo in the Utawarerumono series)Hitomi Nabatame (voice actor for Kazusa Touma in WHITE ALBUM 2\, Yuma Tonami in the ToHeart2 series)Rio Natsuki (voice actor for Lucy Maria Misora in the ToHeart2 series\, Youko Touma in WHITE ALBUM 2)Ryouko Ono (voice actor for Sasara Kusugawa in the ToHeart2 series\, Akina Ogiso in WHITE ALBUM 2)Suara (singer)And more!
URL:https://www.gematsu.com/event/did-you-know-next-year-is-the-30th-anniversary-of-aquaplus-live-stream
ATTACH;FMTTYPE=image/jpeg:https://www.gematsu.com/wp-content/uploads/2023/10/Event_AQUAPLUS-30_11-24-23.jpg
END:VEVENT
END:VCALENDAR