BEGIN:VCALENDAR
VERSION:2.0
PRODID:-//Gematsu - ECPv5.16.4//NONSGML v1.0//EN
CALSCALE:GREGORIAN
METHOD:PUBLISH
X-WR-CALNAME:Gematsu
X-ORIGINAL-URL:https://www.gematsu.com
X-WR-CALDESC:Events for Gematsu
BEGIN:VTIMEZONE
TZID:America/New_York
BEGIN:DAYLIGHT
TZOFFSETFROM:-0500
TZOFFSETTO:-0400
TZNAME:EDT
DTSTART:20230312T070000
END:DAYLIGHT
BEGIN:STANDARD
TZOFFSETFROM:-0400
TZOFFSETTO:-0500
TZNAME:EST
DTSTART:20231105T060000
END:STANDARD
END:VTIMEZONE
BEGIN:VEVENT
DTSTART;TZID=America/New_York:20230908T070000
DTEND;TZID=America/New_York:20230908T080000
DTSTAMP:20260419T235814
CREATED:20230905T022506Z
LAST-MODIFIED:20230913T124659Z
UID:833198-1694156400-1694160000@www.gematsu.com
SUMMARY:City Connection and Happymeal Joint Project Presentation in Osaka
DESCRIPTION:City Connection and Happymeal will host a presentation on September 8 at 20:00 JST concerning titles to be exhibited at Tokyo Game Show 2023. You will be able to watch it on YouTube. \nThe companies will also invite 20 fans\, chosen by lottery\, to attend the presentation by lottery\, which will be held at Sun World Building in Kitahorie\, Nishi\, Osaka\, Japan. Users who wish to attend need only to send City Connection a message on Twitter stating as much. \nPresenters include City Connection president Nobuhiro Yoshikawa\, Happymeal president Seki Junji\, and a secret guest.
URL:https://www.gematsu.com/event/city-connection-and-happymeal-joint-project-presentation-in-osaka
ATTACH;FMTTYPE=image/jpeg:https://www.gematsu.com/wp-content/uploads/2023/09/Event_City-Connection_09-08-23.jpg
END:VEVENT
END:VCALENDAR