BEGIN:VCALENDAR
VERSION:2.0
PRODID:-//Gematsu - ECPv5.16.4//NONSGML v1.0//EN
CALSCALE:GREGORIAN
METHOD:PUBLISH
X-WR-CALNAME:Gematsu
X-ORIGINAL-URL:https://www.gematsu.com
X-WR-CALDESC:Events for Gematsu
BEGIN:VTIMEZONE
TZID:America/New_York
BEGIN:DAYLIGHT
TZOFFSETFROM:-0500
TZOFFSETTO:-0400
TZNAME:EDT
DTSTART:20240310T070000
END:DAYLIGHT
BEGIN:STANDARD
TZOFFSETFROM:-0400
TZOFFSETTO:-0500
TZNAME:EST
DTSTART:20241103T060000
END:STANDARD
END:VTIMEZONE
BEGIN:VEVENT
DTSTART;TZID=America/New_York:20240705T230000
DTEND;TZID=America/New_York:20240705T233000
DTSTAMP:20260423T130828
CREATED:20240701T130753Z
LAST-MODIFIED:20240703T214838Z
UID:896037-1720220400-1720222200@www.gematsu.com
SUMMARY:ATLUS Exclusive: Metaphor: ReFantazio - July 5\, 2024
DESCRIPTION:ATLUS will host the “ATLUS Exclusive: Metaphor: ReFantazio – July 5\, 2024″ broadcast on July 5 at 8:00 p.m. PT / 11:00 p.m. ET / July 6 at 12:00 JST. You will be able to watch it on YouTube (English\, Japanese\, Korean\, Traditional Chinese). \nThe broadcast will feature a closer look at the story of ATLUS’ new fantasy RPG Metaphor: ReFantazio. Director Katsura Hashino will talk about the game’s deep story\, worldview\, and traveling companions.
URL:https://www.gematsu.com/event/atlus-exclusive-metaphor-refantazio-july-5-2024
ATTACH;FMTTYPE=image/jpeg:https://www.gematsu.com/wp-content/uploads/2024/07/Event_Metaphor-ReFantazio_07-05-24.jpg
END:VEVENT
END:VCALENDAR