BEGIN:VCALENDAR
VERSION:2.0
PRODID:-//Gematsu - ECPv5.16.4//NONSGML v1.0//EN
CALSCALE:GREGORIAN
METHOD:PUBLISH
X-WR-CALNAME:Gematsu
X-ORIGINAL-URL:https://www.gematsu.com
X-WR-CALDESC:Events for Gematsu
BEGIN:VTIMEZONE
TZID:America/New_York
BEGIN:DAYLIGHT
TZOFFSETFROM:-0500
TZOFFSETTO:-0400
TZNAME:EDT
DTSTART:20230312T070000
END:DAYLIGHT
BEGIN:STANDARD
TZOFFSETFROM:-0400
TZOFFSETTO:-0500
TZNAME:EST
DTSTART:20231105T060000
END:STANDARD
END:VTIMEZONE
BEGIN:VEVENT
DTSTART;TZID=America/New_York:20230220T070000
DTEND;TZID=America/New_York:20230220T080000
DTSTAMP:20260421T034217
CREATED:20230210T052252Z
LAST-MODIFIED:20230407T054145Z
UID:792173-1676876400-1676880000@www.gematsu.com
SUMMARY:Atelier Series 25th Anniversary Program #4
DESCRIPTION:https://www.youtube.com/watch?v=eVPCj3quaGU \nPublisher Koei Tecmo and developer Gust will host the Atelier Series 25th Anniversary Program #4 on February 20 at 21:00 JST. You will be able to watch it on YouTube. \nThe broadcast will feature an introduction to the newly announced Atelier Marie Remake: The Alchemist of Salburg\, with plenty of debut footage; the latest information on Atelier Ryza 3: Alchemist of the End & the Secret Key\, including the latest trailer\, details on the Digital Deluxe edition\, and live gameplay of the PlayStation 5 version; and the latest Atelier series merchandise information. \nPresenters include host Shohei Taguchi and guests Yuri Noguchi (Reisalin Stout voice actor) and Hitomi Oowada (Klaudia Valentz voice actor).
URL:https://www.gematsu.com/event/atelier-series-25th-anniversary-program-4
ATTACH;FMTTYPE=image/jpeg:https://www.gematsu.com/wp-content/uploads/2023/02/Event_Atelier-25th_02-20-23.jpg
END:VEVENT
END:VCALENDAR